BEGIN:VCALENDAR
VERSION:2.0
PRODID:-//Deutscher Alpenverein Sektion Weilheim - ECPv6.15.20//NONSGML v1.0//EN
CALSCALE:GREGORIAN
METHOD:PUBLISH
X-ORIGINAL-URL:https://dav-weilheim.de
X-WR-CALDESC:Veranstaltungen für Deutscher Alpenverein Sektion Weilheim
REFRESH-INTERVAL;VALUE=DURATION:PT1H
X-Robots-Tag:noindex
X-PUBLISHED-TTL:PT1H
BEGIN:VTIMEZONE
TZID:Europe/Berlin
BEGIN:DAYLIGHT
TZOFFSETFROM:+0100
TZOFFSETTO:+0200
TZNAME:CEST
DTSTART:20220327T010000
END:DAYLIGHT
BEGIN:STANDARD
TZOFFSETFROM:+0200
TZOFFSETTO:+0100
TZNAME:CET
DTSTART:20221030T010000
END:STANDARD
BEGIN:DAYLIGHT
TZOFFSETFROM:+0100
TZOFFSETTO:+0200
TZNAME:CEST
DTSTART:20230326T010000
END:DAYLIGHT
BEGIN:STANDARD
TZOFFSETFROM:+0200
TZOFFSETTO:+0100
TZNAME:CET
DTSTART:20231029T010000
END:STANDARD
BEGIN:DAYLIGHT
TZOFFSETFROM:+0100
TZOFFSETTO:+0200
TZNAME:CEST
DTSTART:20240331T010000
END:DAYLIGHT
BEGIN:STANDARD
TZOFFSETFROM:+0200
TZOFFSETTO:+0100
TZNAME:CET
DTSTART:20241027T010000
END:STANDARD
BEGIN:DAYLIGHT
TZOFFSETFROM:+0100
TZOFFSETTO:+0200
TZNAME:CEST
DTSTART:20250330T010000
END:DAYLIGHT
BEGIN:STANDARD
TZOFFSETFROM:+0200
TZOFFSETTO:+0100
TZNAME:CET
DTSTART:20251026T010000
END:STANDARD
END:VTIMEZONE
BEGIN:VEVENT
DTSTART;TZID=Europe/Berlin:20240515T180000
DTEND;TZID=Europe/Berlin:20240515T193000
DTSTAMP:20260421T121037
CREATED:20240324T162007Z
LAST-MODIFIED:20240324T162007Z
UID:10002896-1715796000-1715801400@dav-weilheim.de
SUMMARY:JDAV-Jugend Theorie: Klettern am Fels
DESCRIPTION:
URL:https://dav-weilheim.de/veranstaltung/jdav-jugend-theorie-klettern-am-fels/
LOCATION:Talhütte\, Sektionshaus\, Hofstraße 17\, Weilheim\, 82362\, Deutschland
CATEGORIES:JDAV,JDAV Jugend
ORGANIZER;CN="Greta S%C3%BCberkr%C3%BCb":MAILTO:klettern@sueberkrueb.de
END:VEVENT
BEGIN:VEVENT
DTSTART;VALUE=DATE:20240511
DTEND;VALUE=DATE:20240513
DTSTAMP:20260421T121037
CREATED:20231119T120846Z
LAST-MODIFIED:20231119T120846Z
UID:10002743-1715385600-1715558399@dav-weilheim.de
SUMMARY:Von der Halle an den Fels
DESCRIPTION:Die ersten Schritte von der Halle an den Fels: Vermittlung von Vorstiegs- und Sicherungs-Technik sowie den dazugehörigen Gefahren.
URL:https://dav-weilheim.de/veranstaltung/von-der-halle-an-den-fels/
CATEGORIES:Klettertreff
ORGANIZER;CN="Christina Kormann":MAILTO:christinakormann@web.de
END:VEVENT
BEGIN:VEVENT
DTSTART;TZID=Europe/Berlin:20240508T180000
DTEND;TZID=Europe/Berlin:20240508T193000
DTSTAMP:20260421T121037
CREATED:20240324T161818Z
LAST-MODIFIED:20240324T161818Z
UID:10002895-1715191200-1715196600@dav-weilheim.de
SUMMARY:JDAV-Jugend Klettern
DESCRIPTION:6\,– Euro mitbringen \nGetränke und passende Socken für Kletterschuhe nicht vergessen!
URL:https://dav-weilheim.de/veranstaltung/jdav-jugend-klettern-9/
LOCATION:Talhütte\, Sektionshaus\, Hofstraße 17\, Weilheim\, 82362\, Deutschland
CATEGORIES:JDAV,JDAV Jugend
ORGANIZER;CN="Greta S%C3%BCberkr%C3%BCb":MAILTO:klettern@sueberkrueb.de
END:VEVENT
BEGIN:VEVENT
DTSTART;TZID=Europe/Berlin:20240424T180000
DTEND;TZID=Europe/Berlin:20240424T193000
DTSTAMP:20260421T121037
CREATED:20240324T161528Z
LAST-MODIFIED:20240324T161528Z
UID:10002893-1713981600-1713987000@dav-weilheim.de
SUMMARY:JDAV-Jugend Klettern
DESCRIPTION:6\,– Euro mitbringen \nGetränk und passende Socken für Kletterschuhe nicht vergessen!
URL:https://dav-weilheim.de/veranstaltung/jdav-jugend-klettern-8/
LOCATION:Kletterhalle Weilheim\, Trifthofstraße 58\, Weilheim\, 82362\, Deutschland
CATEGORIES:JDAV,JDAV Jugend
ORGANIZER;CN="Greta S%C3%BCberkr%C3%BCb":MAILTO:klettern@sueberkrueb.de
END:VEVENT
BEGIN:VEVENT
DTSTART;VALUE=DATE:20240418
DTEND;VALUE=DATE:20240422
DTSTAMP:20260421T121037
CREATED:20220905T192046Z
LAST-MODIFIED:20240324T152255Z
UID:10001421-1713398400-1713743999@dav-weilheim.de
SUMMARY:JDAV 72-Stunden-Aktion
DESCRIPTION:In 72 Stunden werden bei dieser deutschlandweit vom BDKJ organisierten Sozialaktion Projekte umgesetzt\, die die “Welt ein Stückchen besser machen”. \nWir haben uns für diesen Zeitraum vorgenommen auf der Kaseralm notwendige Arbeiten durchzuführen\, wollen uns damit auseinandersetzen\, wie man die Hüttenaufenthalte nachhaltig und umweltschonend gestalten kann…. \nWir fahren am Donnerstag um 16 Uhr zum offiziellen Auftakt nach Peißenberg und sind von Freitag bis Sonntag auf der Kaseralm zum Werkeln. \nGerne dürfen uns Eltern und Interessierte an dem Wochenende tagsüber auf der Hütte besuchen und unsere Fortschritte bewundern! \n  \n 
URL:https://dav-weilheim.de/veranstaltung/bergputz-in-gap/
LOCATION:Kaseralm\, An der Glentleiten\, Ohlstadt\, 82439\, Deutschland
CATEGORIES:JDAV,JDAV Jugend,JDAV Kinder
ORGANIZER;CN="Greta S%C3%BCberkr%C3%BCb":MAILTO:klettern@sueberkrueb.de
END:VEVENT
BEGIN:VEVENT
DTSTART;TZID=Europe/Berlin:20240417T180000
DTEND;TZID=Europe/Berlin:20240417T193000
DTSTAMP:20260421T121037
CREATED:20240324T161643Z
LAST-MODIFIED:20240324T161643Z
UID:10002894-1713376800-1713382200@dav-weilheim.de
SUMMARY:JDAV-Jugend Therorie
DESCRIPTION:
URL:https://dav-weilheim.de/veranstaltung/jdav-jugend-therorie/
LOCATION:Talhütte\, Sektionshaus\, Hofstraße 17\, Weilheim\, 82362\, Deutschland
CATEGORIES:JDAV,JDAV Jugend
ORGANIZER;CN="Greta S%C3%BCberkr%C3%BCb":MAILTO:klettern@sueberkrueb.de
END:VEVENT
BEGIN:VEVENT
DTSTART;VALUE=DATE:20240414
DTEND;VALUE=DATE:20240415
DTSTAMP:20260421T121037
CREATED:20231119T120705Z
LAST-MODIFIED:20231119T120705Z
UID:10002731-1713052800-1713139199@dav-weilheim.de
SUMMARY:Anklettern 2024
DESCRIPTION:Wir wollen gemeinsam die Kletter-Saison draußen eröffnen!
URL:https://dav-weilheim.de/veranstaltung/anklettern-2024/
CATEGORIES:JDAV Jugend,Klettertreff
ORGANIZER;CN="Christina Kormann":MAILTO:christinakormann@web.de
END:VEVENT
BEGIN:VEVENT
DTSTART;TZID=Europe/Berlin:20240412T150000
DTEND;TZID=Europe/Berlin:20240412T200000
DTSTAMP:20260421T121037
CREATED:20240202T095309Z
LAST-MODIFIED:20240202T095310Z
UID:10002871-1712934000-1712952000@dav-weilheim.de
SUMMARY:1. Alpinflohmarkt
DESCRIPTION:Wann: Am 12.4.24 um 15 Uhr bis 20 Uhr \nWo: In der DAV Talhütte (Hofstraße 17 in Weilheim) \nIn der Zeit von 15:00 Uhr bis 20:00 Uhr kannst du deine überzählige Bergsportausrüstung (aus Haftungsgründen bitte keine PSA*) verkaufen und kaufen. \nDu bist DAV Weilheim Mitglied und möchtest mit einem eigenen Stand teilnehmen? Prima\, dann meld dich bei Karin.bruederle@dav-weilheim.de
URL:https://dav-weilheim.de/veranstaltung/1-alpinflohmarkt/
LOCATION:Talhütte\, Sektionshaus\, Hofstraße 17\, Weilheim\, 82362\, Deutschland
ORGANIZER;CN="Karin Br%C3%BCderle":MAILTO:karin.bruederle@t-online.de
END:VEVENT
BEGIN:VEVENT
DTSTART;TZID=Europe/Berlin:20240410T180000
DTEND;TZID=Europe/Berlin:20240410T193000
DTSTAMP:20260421T121037
CREATED:20240324T161328Z
LAST-MODIFIED:20240324T161328Z
UID:10002892-1712772000-1712777400@dav-weilheim.de
SUMMARY:JDAV-Jugend Klettern
DESCRIPTION:6\,– Euro mitbringen \nGetränk und passende Socken für Kletterschuhe nicht vergessen
URL:https://dav-weilheim.de/veranstaltung/jdav-jugend-klettern-7/
LOCATION:Kletterhalle Weilheim\, Trifthofstraße 58\, Weilheim\, 82362\, Deutschland
CATEGORIES:JDAV,JDAV Jugend
ORGANIZER;CN="Greta S%C3%BCberkr%C3%BCb":MAILTO:klettern@sueberkrueb.de
END:VEVENT
BEGIN:VEVENT
DTSTART;TZID=Europe/Berlin:20240320T180000
DTEND;TZID=Europe/Berlin:20240320T200000
DTSTAMP:20260421T121037
CREATED:20240105T113848Z
LAST-MODIFIED:20240105T113848Z
UID:10002856-1710957600-1710964800@dav-weilheim.de
SUMMARY:JDAV Gruppenstunde
DESCRIPTION:Gruppenstunde in der Talhütte\, oder an einem anderem Ort. \nsiehe Programm
URL:https://dav-weilheim.de/veranstaltung/jdav-gruppenstunde/2024-03-20/
CATEGORIES:JDAV Jugend
ORGANIZER;CN="Lukas Brandmeir":MAILTO:lukasbrandmeir@gmail.com
END:VEVENT
BEGIN:VEVENT
DTSTART;TZID=Europe/Berlin:20240306T180000
DTEND;TZID=Europe/Berlin:20240306T200000
DTSTAMP:20260421T121037
CREATED:20240105T113848Z
LAST-MODIFIED:20240105T113848Z
UID:10002855-1709748000-1709755200@dav-weilheim.de
SUMMARY:JDAV Gruppenstunde
DESCRIPTION:Gruppenstunde in der Talhütte\, oder an einem anderem Ort. \nsiehe Programm
URL:https://dav-weilheim.de/veranstaltung/jdav-gruppenstunde/2024-03-06/
CATEGORIES:JDAV Jugend
ORGANIZER;CN="Lukas Brandmeir":MAILTO:lukasbrandmeir@gmail.com
END:VEVENT
BEGIN:VEVENT
DTSTART;TZID=Europe/Berlin:20240228T180000
DTEND;TZID=Europe/Berlin:20240228T200000
DTSTAMP:20260421T121037
CREATED:20221113T081926Z
LAST-MODIFIED:20240105T112635Z
UID:10001741-1709143200-1709150400@dav-weilheim.de
SUMMARY:JDAV Klettern
DESCRIPTION:geckos treffen sich in der Kletterhalle
URL:https://dav-weilheim.de/veranstaltung/klettern-16/
LOCATION:Kletterhalle Weilheim\, Trifthofstraße 58\, Weilheim\, 82362\, Deutschland
CATEGORIES:Geckos,JDAV Jugend
ORGANIZER;CN="Greta S%C3%BCberkr%C3%BCb":MAILTO:klettern@sueberkrueb.de
END:VEVENT
BEGIN:VEVENT
DTSTART;TZID=Europe/Berlin:20240221T180000
DTEND;TZID=Europe/Berlin:20240221T200000
DTSTAMP:20260421T121037
CREATED:20240105T113848Z
LAST-MODIFIED:20240105T113848Z
UID:10002854-1708538400-1708545600@dav-weilheim.de
SUMMARY:JDAV Gruppenstunde
DESCRIPTION:Gruppenstunde in der Talhütte\, oder an einem anderem Ort. \nsiehe Programm
URL:https://dav-weilheim.de/veranstaltung/jdav-gruppenstunde/2024-02-21/
CATEGORIES:JDAV Jugend
ORGANIZER;CN="Lukas Brandmeir":MAILTO:lukasbrandmeir@gmail.com
END:VEVENT
BEGIN:VEVENT
DTSTART;TZID=Europe/Berlin:20240219T180000
DTEND;TZID=Europe/Berlin:20240219T200000
DTSTAMP:20260421T121037
CREATED:20221113T180019Z
LAST-MODIFIED:20240103T124433Z
UID:10001740-1708365600-1708372800@dav-weilheim.de
SUMMARY:Klettern
DESCRIPTION:Die Geckos treffen sich in der Kletterhalle
URL:https://dav-weilheim.de/veranstaltung/klettern-15/
LOCATION:Kletterhalle Weilheim\, Trifthofstraße 58\, Weilheim\, 82362\, Deutschland
CATEGORIES:Geckos
ORGANIZER;CN="Greta S%C3%BCberkr%C3%BCb":MAILTO:klettern@sueberkrueb.de
END:VEVENT
BEGIN:VEVENT
DTSTART;TZID=Europe/Berlin:20240207T180000
DTEND;TZID=Europe/Berlin:20240207T200000
DTSTAMP:20260421T121037
CREATED:20240105T113848Z
LAST-MODIFIED:20240105T113848Z
UID:10002853-1707328800-1707336000@dav-weilheim.de
SUMMARY:JDAV Gruppenstunde
DESCRIPTION:Gruppenstunde in der Talhütte\, oder an einem anderem Ort. \nsiehe Programm
URL:https://dav-weilheim.de/veranstaltung/jdav-gruppenstunde/2024-02-07/
CATEGORIES:JDAV Jugend
ORGANIZER;CN="Lukas Brandmeir":MAILTO:lukasbrandmeir@gmail.com
END:VEVENT
BEGIN:VEVENT
DTSTART;TZID=Europe/Berlin:20240124T180000
DTEND;TZID=Europe/Berlin:20240124T200000
DTSTAMP:20260421T121037
CREATED:20240105T113848Z
LAST-MODIFIED:20240105T113848Z
UID:10002852-1706119200-1706126400@dav-weilheim.de
SUMMARY:JDAV Gruppenstunde
DESCRIPTION:Gruppenstunde in der Talhütte\, oder an einem anderem Ort. \nsiehe Programm
URL:https://dav-weilheim.de/veranstaltung/jdav-gruppenstunde/2024-01-24/
CATEGORIES:JDAV Jugend
ORGANIZER;CN="Lukas Brandmeir":MAILTO:lukasbrandmeir@gmail.com
END:VEVENT
BEGIN:VEVENT
DTSTART;TZID=Europe/Berlin:20231220T180000
DTEND;TZID=Europe/Berlin:20231220T200000
DTSTAMP:20260421T121037
CREATED:20231004T205127Z
LAST-MODIFIED:20231004T205127Z
UID:10002615-1703095200-1703102400@dav-weilheim.de
SUMMARY:JDAV-Jugend Weihnachtsfeier
DESCRIPTION:Was wünscht ihr euch für das neue Programm?
URL:https://dav-weilheim.de/veranstaltung/jdav-jugend-weihnachtsfeier/
LOCATION:Talhütte\, Sektionshaus\, Hofstraße 17\, Weilheim\, 82362\, Deutschland
CATEGORIES:JDAV,JDAV Jugend
ORGANIZER;CN="Lukas Brandmeir":MAILTO:lukasbrandmeir@gmail.com
END:VEVENT
BEGIN:VEVENT
DTSTART;TZID=Europe/Berlin:20231213T180000
DTEND;TZID=Europe/Berlin:20231213T200000
DTSTAMP:20260421T121037
CREATED:20231004T204913Z
LAST-MODIFIED:20231004T204913Z
UID:10002614-1702490400-1702497600@dav-weilheim.de
SUMMARY:JDAV-Jugend Klettern
DESCRIPTION:6\,– Euro Eintritt mitbringen!
URL:https://dav-weilheim.de/veranstaltung/jdav-jugend-klettern-6/
LOCATION:Kletterhalle Weilheim\, Trifthofstraße 58\, Weilheim\, 82362\, Deutschland
CATEGORIES:JDAV,JDAV Jugend
ORGANIZER;CN="Greta S%C3%BCberkr%C3%BCb":MAILTO:klettern@sueberkrueb.de
END:VEVENT
BEGIN:VEVENT
DTSTART;TZID=Europe/Berlin:20231206T180000
DTEND;TZID=Europe/Berlin:20231206T200000
DTSTAMP:20260421T121037
CREATED:20231004T204739Z
LAST-MODIFIED:20231004T204739Z
UID:10002613-1701885600-1701892800@dav-weilheim.de
SUMMARY:JDAV-Jugend Basteln für den Weihnachtsmarkt
DESCRIPTION:
URL:https://dav-weilheim.de/veranstaltung/jdav-jugend-basteln-fuer-den-weihnachtsmarkt-2/
LOCATION:Talhütte\, Sektionshaus\, Hofstraße 17\, Weilheim\, 82362\, Deutschland
CATEGORIES:JDAV,JDAV Jugend
ORGANIZER;CN="Greta S%C3%BCberkr%C3%BCb":MAILTO:klettern@sueberkrueb.de
END:VEVENT
BEGIN:VEVENT
DTSTART;TZID=Europe/Berlin:20231129T180000
DTEND;TZID=Europe/Berlin:20231129T200000
DTSTAMP:20260421T121037
CREATED:20231004T204545Z
LAST-MODIFIED:20231004T204545Z
UID:10002612-1701280800-1701288000@dav-weilheim.de
SUMMARY:JDAV-Jugend Adventskränze binden
DESCRIPTION:Für einen eigenen Kranz bitte Rohling und Draht mitbringen\, wer hat\, kann auch gerne Grünzeug mitbringen!
URL:https://dav-weilheim.de/veranstaltung/jdav-jugend-adventskraenze-binden/
LOCATION:Talhütte\, Sektionshaus\, Hofstraße 17\, Weilheim\, 82362\, Deutschland
CATEGORIES:JDAV,JDAV Jugend
ORGANIZER;CN="Greta S%C3%BCberkr%C3%BCb":MAILTO:klettern@sueberkrueb.de
END:VEVENT
BEGIN:VEVENT
DTSTART;TZID=Europe/Berlin:20231115T180000
DTEND;TZID=Europe/Berlin:20231115T200000
DTSTAMP:20260421T121037
CREATED:20231004T204317Z
LAST-MODIFIED:20231004T204317Z
UID:10002611-1700071200-1700078400@dav-weilheim.de
SUMMARY:JDAV-Jugend Basteln für den Weihnachtsmarkt
DESCRIPTION:
URL:https://dav-weilheim.de/veranstaltung/jdav-jugend-basteln-fuer-den-weihnachtsmarkt/
LOCATION:Talhütte\, Sektionshaus\, Hofstraße 17\, Weilheim\, 82362\, Deutschland
CATEGORIES:JDAV,JDAV Jugend
ORGANIZER;CN="Greta S%C3%BCberkr%C3%BCb":MAILTO:klettern@sueberkrueb.de
END:VEVENT
BEGIN:VEVENT
DTSTART;TZID=Europe/Berlin:20231108T180000
DTEND;TZID=Europe/Berlin:20231108T200000
DTSTAMP:20260421T121037
CREATED:20231004T204150Z
LAST-MODIFIED:20231004T204150Z
UID:10002610-1699466400-1699473600@dav-weilheim.de
SUMMARY:JDAV-Jugend Klettern
DESCRIPTION:6\,– Euro Eintritt mitbringen!
URL:https://dav-weilheim.de/veranstaltung/jdav-jugend-klettern-5/
LOCATION:Kletterhalle Weilheim\, Trifthofstraße 58\, Weilheim\, 82362\, Deutschland
CATEGORIES:JDAV,JDAV Jugend
ORGANIZER;CN="Greta S%C3%BCberkr%C3%BCb":MAILTO:klettern@sueberkrueb.de
END:VEVENT
BEGIN:VEVENT
DTSTART;TZID=Europe/Berlin:20231025T180000
DTEND;TZID=Europe/Berlin:20231025T200000
DTSTAMP:20260421T121037
CREATED:20231004T204028Z
LAST-MODIFIED:20231004T204028Z
UID:10002609-1698256800-1698264000@dav-weilheim.de
SUMMARY:JDAV-Jugend T-Shirts bemalen mit DAV-Logo
DESCRIPTION:T-Shirt selbst mitbringen!
URL:https://dav-weilheim.de/veranstaltung/jdav-jugend-t-shirts-bemalen-mit-dav-logo/
LOCATION:Talhütte\, Sektionshaus\, Hofstraße 17\, Weilheim\, 82362\, Deutschland
CATEGORIES:JDAV,JDAV Jugend
ORGANIZER;CN="Greta S%C3%BCberkr%C3%BCb":MAILTO:klettern@sueberkrueb.de
END:VEVENT
BEGIN:VEVENT
DTSTART;TZID=Europe/Berlin:20231018T180000
DTEND;TZID=Europe/Berlin:20231018T200000
DTSTAMP:20260421T121037
CREATED:20231004T203736Z
LAST-MODIFIED:20231004T203828Z
UID:10002608-1697652000-1697659200@dav-weilheim.de
SUMMARY:JDAV-Jugend Klettern
DESCRIPTION:6\,– Euro Eintritt mitbringen!
URL:https://dav-weilheim.de/veranstaltung/jdav-jugend-klettern-4/
LOCATION:Kletterhalle Weilheim\, Trifthofstraße 58\, Weilheim\, 82362\, Deutschland
CATEGORIES:JDAV,JDAV Jugend
ORGANIZER;CN="Greta S%C3%BCberkr%C3%BCb":MAILTO:klettern@sueberkrueb.de
END:VEVENT
BEGIN:VEVENT
DTSTART;TZID=Europe/Berlin:20231011T180000
DTEND;TZID=Europe/Berlin:20231011T200000
DTSTAMP:20260421T121037
CREATED:20231004T203551Z
LAST-MODIFIED:20231004T203551Z
UID:10002607-1697047200-1697054400@dav-weilheim.de
SUMMARY:JDAV-Jugend Ausbildung
DESCRIPTION:Verhaltensregeln in den Bergen \nTourenideen
URL:https://dav-weilheim.de/veranstaltung/jdav-jugend-ausbildung-2/
LOCATION:Talhütte\, Sektionshaus\, Hofstraße 17\, Weilheim\, 82362\, Deutschland
CATEGORIES:JDAV,JDAV Jugend
ORGANIZER;CN="Greta S%C3%BCberkr%C3%BCb":MAILTO:klettern@sueberkrueb.de
END:VEVENT
BEGIN:VEVENT
DTSTART;TZID=Europe/Berlin:20231004T180000
DTEND;TZID=Europe/Berlin:20231004T200000
DTSTAMP:20260421T121037
CREATED:20231004T203336Z
LAST-MODIFIED:20231004T203336Z
UID:10002606-1696442400-1696449600@dav-weilheim.de
SUMMARY:JDAV-Jugend Slacklinen am Gögerl
DESCRIPTION:
URL:https://dav-weilheim.de/veranstaltung/jdav-jugend-slacklinen-am-goegerl/
LOCATION:Gögerl\, Am Gögerl 1\, Weilheim\, 82362\, Deutschland
CATEGORIES:JDAV,JDAV Jugend
ORGANIZER;CN="Lukas Brandmeir":MAILTO:lukasbrandmeir@gmail.com
END:VEVENT
BEGIN:VEVENT
DTSTART;TZID=Europe/Berlin:20231004T180000
DTEND;TZID=Europe/Berlin:20231004T200000
DTSTAMP:20260421T121037
CREATED:20231004T135914Z
LAST-MODIFIED:20231004T135914Z
UID:10002605-1696442400-1696449600@dav-weilheim.de
SUMMARY:JDAV-Jugendgruppe Slacklinen am Gögerl
DESCRIPTION:Wir treffen uns am Gögerlsportplatz
URL:https://dav-weilheim.de/veranstaltung/jdav-jugendgruppe-slacklinen-am-goegerl/
LOCATION:Gögerl\, Am Gögerl 1\, Weilheim\, 82362\, Deutschland
CATEGORIES:JDAV,JDAV Jugend
ORGANIZER;CN="Lukas Brandmeir":MAILTO:lukasbrandmeir@gmail.com
END:VEVENT
BEGIN:VEVENT
DTSTART;TZID=Europe/Berlin:20230927T180000
DTEND;TZID=Europe/Berlin:20230927T200000
DTSTAMP:20260421T121037
CREATED:20230820T110956Z
LAST-MODIFIED:20230820T111951Z
UID:10002577-1695837600-1695844800@dav-weilheim.de
SUMMARY:Klettern
DESCRIPTION:Die JDAV Gruppe geht klettern. Wir treffen uns vor der Kletterhalle. \nMitzubringen sind 6€ und was zu trinken.
URL:https://dav-weilheim.de/veranstaltung/klettern-27/
LOCATION:Kletterhalle Weilheim\, Trifthofstraße 58\, Weilheim\, 82362\, Deutschland
CATEGORIES:JDAV Jugend
ORGANIZER;CN="Lukas Brandmeir":MAILTO:lukasbrandmeir@gmail.com
END:VEVENT
BEGIN:VEVENT
DTSTART;TZID=Europe/Berlin:20230920T180000
DTEND;TZID=Europe/Berlin:20230920T200000
DTSTAMP:20260421T121037
CREATED:20230820T110634Z
LAST-MODIFIED:20230820T110750Z
UID:10002576-1695232800-1695240000@dav-weilheim.de
SUMMARY:Jugendgruppenstunde
DESCRIPTION:Knotenkunde / Jugendbuch / Gruppennamen
URL:https://dav-weilheim.de/veranstaltung/jugendgruppenstunde/
LOCATION:Talhütte\, Sektionshaus\, Hofstraße 17\, Weilheim\, 82362\, Deutschland
CATEGORIES:JDAV Jugend
ORGANIZER;CN="Lukas Brandmeir":MAILTO:lukasbrandmeir@gmail.com
END:VEVENT
BEGIN:VEVENT
DTSTART;TZID=Europe/Berlin:20230913T180000
DTEND;TZID=Europe/Berlin:20230913T200000
DTSTAMP:20260421T121037
CREATED:20221130T083945Z
LAST-MODIFIED:20230707T182247Z
UID:10002411-1694628000-1694635200@dav-weilheim.de
SUMMARY:Kennenlernen
DESCRIPTION:Unsere Neue Jugendgruppe trifft sich um 18Uhr in unserem Jugendraum in der Talhütte
URL:https://dav-weilheim.de/veranstaltung/geckos/
LOCATION:Talhütte\, Sektionshaus\, Hofstraße 17\, Weilheim\, 82362\, Deutschland
CATEGORIES:JDAV Jugend
ORGANIZER;CN="Greta S%C3%BCberkr%C3%BCb":MAILTO:klettern@sueberkrueb.de
END:VEVENT
END:VCALENDAR