BEGIN:VCALENDAR
VERSION:2.0
PRODID:-//Deutscher Alpenverein Sektion Weilheim - ECPv6.15.20//NONSGML v1.0//EN
CALSCALE:GREGORIAN
METHOD:PUBLISH
X-WR-CALNAME:Deutscher Alpenverein Sektion Weilheim
X-ORIGINAL-URL:https://dav-weilheim.de
X-WR-CALDESC:Veranstaltungen für Deutscher Alpenverein Sektion Weilheim
REFRESH-INTERVAL;VALUE=DURATION:PT1H
X-Robots-Tag:noindex
X-PUBLISHED-TTL:PT1H
BEGIN:VTIMEZONE
TZID:Europe/Berlin
BEGIN:DAYLIGHT
TZOFFSETFROM:+0100
TZOFFSETTO:+0200
TZNAME:CEST
DTSTART:20210328T010000
END:DAYLIGHT
BEGIN:STANDARD
TZOFFSETFROM:+0200
TZOFFSETTO:+0100
TZNAME:CET
DTSTART:20211031T010000
END:STANDARD
BEGIN:DAYLIGHT
TZOFFSETFROM:+0100
TZOFFSETTO:+0200
TZNAME:CEST
DTSTART:20220327T010000
END:DAYLIGHT
BEGIN:STANDARD
TZOFFSETFROM:+0200
TZOFFSETTO:+0100
TZNAME:CET
DTSTART:20221030T010000
END:STANDARD
BEGIN:DAYLIGHT
TZOFFSETFROM:+0100
TZOFFSETTO:+0200
TZNAME:CEST
DTSTART:20230326T010000
END:DAYLIGHT
BEGIN:STANDARD
TZOFFSETFROM:+0200
TZOFFSETTO:+0100
TZNAME:CET
DTSTART:20231029T010000
END:STANDARD
BEGIN:DAYLIGHT
TZOFFSETFROM:+0100
TZOFFSETTO:+0200
TZNAME:CEST
DTSTART:20240331T010000
END:DAYLIGHT
BEGIN:STANDARD
TZOFFSETFROM:+0200
TZOFFSETTO:+0100
TZNAME:CET
DTSTART:20241027T010000
END:STANDARD
END:VTIMEZONE
BEGIN:VEVENT
DTSTART;TZID=Europe/Berlin:20231115T180000
DTEND;TZID=Europe/Berlin:20231115T200000
DTSTAMP:20260421T134553
CREATED:20231004T204317Z
LAST-MODIFIED:20231004T204317Z
UID:10002611-1700071200-1700078400@dav-weilheim.de
SUMMARY:JDAV-Jugend Basteln für den Weihnachtsmarkt
DESCRIPTION:
URL:https://dav-weilheim.de/veranstaltung/jdav-jugend-basteln-fuer-den-weihnachtsmarkt/
LOCATION:Talhütte\, Sektionshaus\, Hofstraße 17\, Weilheim\, 82362\, Deutschland
CATEGORIES:JDAV,JDAV Jugend
ORGANIZER;CN="Greta S%C3%BCberkr%C3%BCb":MAILTO:klettern@sueberkrueb.de
END:VEVENT
BEGIN:VEVENT
DTSTART;TZID=Europe/Berlin:20231108T180000
DTEND;TZID=Europe/Berlin:20231108T200000
DTSTAMP:20260421T134553
CREATED:20231004T204150Z
LAST-MODIFIED:20231004T204150Z
UID:10002610-1699466400-1699473600@dav-weilheim.de
SUMMARY:JDAV-Jugend Klettern
DESCRIPTION:6\,– Euro Eintritt mitbringen!
URL:https://dav-weilheim.de/veranstaltung/jdav-jugend-klettern-5/
LOCATION:Kletterhalle Weilheim\, Trifthofstraße 58\, Weilheim\, 82362\, Deutschland
CATEGORIES:JDAV,JDAV Jugend
ORGANIZER;CN="Greta S%C3%BCberkr%C3%BCb":MAILTO:klettern@sueberkrueb.de
END:VEVENT
BEGIN:VEVENT
DTSTART;TZID=Europe/Berlin:20231025T180000
DTEND;TZID=Europe/Berlin:20231025T200000
DTSTAMP:20260421T134553
CREATED:20231004T204028Z
LAST-MODIFIED:20231004T204028Z
UID:10002609-1698256800-1698264000@dav-weilheim.de
SUMMARY:JDAV-Jugend T-Shirts bemalen mit DAV-Logo
DESCRIPTION:T-Shirt selbst mitbringen!
URL:https://dav-weilheim.de/veranstaltung/jdav-jugend-t-shirts-bemalen-mit-dav-logo/
LOCATION:Talhütte\, Sektionshaus\, Hofstraße 17\, Weilheim\, 82362\, Deutschland
CATEGORIES:JDAV,JDAV Jugend
ORGANIZER;CN="Greta S%C3%BCberkr%C3%BCb":MAILTO:klettern@sueberkrueb.de
END:VEVENT
BEGIN:VEVENT
DTSTART;TZID=Europe/Berlin:20231018T180000
DTEND;TZID=Europe/Berlin:20231018T200000
DTSTAMP:20260421T134553
CREATED:20231004T203736Z
LAST-MODIFIED:20231004T203828Z
UID:10002608-1697652000-1697659200@dav-weilheim.de
SUMMARY:JDAV-Jugend Klettern
DESCRIPTION:6\,– Euro Eintritt mitbringen!
URL:https://dav-weilheim.de/veranstaltung/jdav-jugend-klettern-4/
LOCATION:Kletterhalle Weilheim\, Trifthofstraße 58\, Weilheim\, 82362\, Deutschland
CATEGORIES:JDAV,JDAV Jugend
ORGANIZER;CN="Greta S%C3%BCberkr%C3%BCb":MAILTO:klettern@sueberkrueb.de
END:VEVENT
BEGIN:VEVENT
DTSTART;TZID=Europe/Berlin:20231011T180000
DTEND;TZID=Europe/Berlin:20231011T200000
DTSTAMP:20260421T134553
CREATED:20231004T203551Z
LAST-MODIFIED:20231004T203551Z
UID:10002607-1697047200-1697054400@dav-weilheim.de
SUMMARY:JDAV-Jugend Ausbildung
DESCRIPTION:Verhaltensregeln in den Bergen \nTourenideen
URL:https://dav-weilheim.de/veranstaltung/jdav-jugend-ausbildung-2/
LOCATION:Talhütte\, Sektionshaus\, Hofstraße 17\, Weilheim\, 82362\, Deutschland
CATEGORIES:JDAV,JDAV Jugend
ORGANIZER;CN="Greta S%C3%BCberkr%C3%BCb":MAILTO:klettern@sueberkrueb.de
END:VEVENT
BEGIN:VEVENT
DTSTART;TZID=Europe/Berlin:20231004T180000
DTEND;TZID=Europe/Berlin:20231004T200000
DTSTAMP:20260421T134553
CREATED:20231004T203336Z
LAST-MODIFIED:20231004T203336Z
UID:10002606-1696442400-1696449600@dav-weilheim.de
SUMMARY:JDAV-Jugend Slacklinen am Gögerl
DESCRIPTION:
URL:https://dav-weilheim.de/veranstaltung/jdav-jugend-slacklinen-am-goegerl/
LOCATION:Gögerl\, Am Gögerl 1\, Weilheim\, 82362\, Deutschland
CATEGORIES:JDAV,JDAV Jugend
ORGANIZER;CN="Lukas Brandmeir":MAILTO:lukasbrandmeir@gmail.com
END:VEVENT
BEGIN:VEVENT
DTSTART;TZID=Europe/Berlin:20231004T180000
DTEND;TZID=Europe/Berlin:20231004T200000
DTSTAMP:20260421T134553
CREATED:20231004T135914Z
LAST-MODIFIED:20231004T135914Z
UID:10002605-1696442400-1696449600@dav-weilheim.de
SUMMARY:JDAV-Jugendgruppe Slacklinen am Gögerl
DESCRIPTION:Wir treffen uns am Gögerlsportplatz
URL:https://dav-weilheim.de/veranstaltung/jdav-jugendgruppe-slacklinen-am-goegerl/
LOCATION:Gögerl\, Am Gögerl 1\, Weilheim\, 82362\, Deutschland
CATEGORIES:JDAV,JDAV Jugend
ORGANIZER;CN="Lukas Brandmeir":MAILTO:lukasbrandmeir@gmail.com
END:VEVENT
BEGIN:VEVENT
DTSTART;TZID=Europe/Berlin:20230927T180000
DTEND;TZID=Europe/Berlin:20230927T200000
DTSTAMP:20260421T134553
CREATED:20230820T110956Z
LAST-MODIFIED:20230820T111951Z
UID:10002577-1695837600-1695844800@dav-weilheim.de
SUMMARY:Klettern
DESCRIPTION:Die JDAV Gruppe geht klettern. Wir treffen uns vor der Kletterhalle. \nMitzubringen sind 6€ und was zu trinken.
URL:https://dav-weilheim.de/veranstaltung/klettern-27/
LOCATION:Kletterhalle Weilheim\, Trifthofstraße 58\, Weilheim\, 82362\, Deutschland
CATEGORIES:JDAV Jugend
ORGANIZER;CN="Lukas Brandmeir":MAILTO:lukasbrandmeir@gmail.com
END:VEVENT
BEGIN:VEVENT
DTSTART;TZID=Europe/Berlin:20230920T180000
DTEND;TZID=Europe/Berlin:20230920T200000
DTSTAMP:20260421T134553
CREATED:20230820T110634Z
LAST-MODIFIED:20230820T110750Z
UID:10002576-1695232800-1695240000@dav-weilheim.de
SUMMARY:Jugendgruppenstunde
DESCRIPTION:Knotenkunde / Jugendbuch / Gruppennamen
URL:https://dav-weilheim.de/veranstaltung/jugendgruppenstunde/
LOCATION:Talhütte\, Sektionshaus\, Hofstraße 17\, Weilheim\, 82362\, Deutschland
CATEGORIES:JDAV Jugend
ORGANIZER;CN="Lukas Brandmeir":MAILTO:lukasbrandmeir@gmail.com
END:VEVENT
BEGIN:VEVENT
DTSTART;TZID=Europe/Berlin:20230913T180000
DTEND;TZID=Europe/Berlin:20230913T200000
DTSTAMP:20260421T134553
CREATED:20221130T083945Z
LAST-MODIFIED:20230707T182247Z
UID:10002411-1694628000-1694635200@dav-weilheim.de
SUMMARY:Kennenlernen
DESCRIPTION:Unsere Neue Jugendgruppe trifft sich um 18Uhr in unserem Jugendraum in der Talhütte
URL:https://dav-weilheim.de/veranstaltung/geckos/
LOCATION:Talhütte\, Sektionshaus\, Hofstraße 17\, Weilheim\, 82362\, Deutschland
CATEGORIES:JDAV Jugend
ORGANIZER;CN="Greta S%C3%BCberkr%C3%BCb":MAILTO:klettern@sueberkrueb.de
END:VEVENT
BEGIN:VEVENT
DTSTART;TZID=Europe/Berlin:20230725T180000
DTEND;TZID=Europe/Berlin:20230725T200000
DTSTAMP:20260421T134553
CREATED:20230504T101325Z
LAST-MODIFIED:20230504T101325Z
UID:10002558-1690308000-1690315200@dav-weilheim.de
SUMMARY:JDAV-Jugend Klettern
DESCRIPTION:Wir fahren zum Klettern nach Bad Heilbrunn (Infos folgen)
URL:https://dav-weilheim.de/veranstaltung/jdav-jugend-klettern-3/
LOCATION:Ort wird noch bekanntgegeben
CATEGORIES:JDAV Jugend
ORGANIZER;CN="Lukas Brandmeir":MAILTO:lukasbrandmeir@gmail.com
END:VEVENT
BEGIN:VEVENT
DTSTART;TZID=Europe/Berlin:20230717T180000
DTEND;TZID=Europe/Berlin:20230717T200000
DTSTAMP:20260421T134553
CREATED:20230504T101143Z
LAST-MODIFIED:20230504T101143Z
UID:10002557-1689616800-1689624000@dav-weilheim.de
SUMMARY:JDAV-Jugend  Knotenkunde
DESCRIPTION:Knotenkunde Draußen Treffpunkt machen wir noch aus
URL:https://dav-weilheim.de/veranstaltung/jdav-jugend-knotenkunde/
LOCATION:Ort wird noch bekanntgegeben
CATEGORIES:JDAV Jugend
ORGANIZER;CN="Lukas Brandmeir":MAILTO:lukasbrandmeir@gmail.com
END:VEVENT
BEGIN:VEVENT
DTSTART;TZID=Europe/Berlin:20230710T180000
DTEND;TZID=Europe/Berlin:20230710T200000
DTSTAMP:20260421T134553
CREATED:20230504T100928Z
LAST-MODIFIED:20230504T100928Z
UID:10002556-1689012000-1689019200@dav-weilheim.de
SUMMARY:JDAV-Jugend
DESCRIPTION:Mountainbiken (Helmpflicht) oder Slacklinen je nach Wetter (Infos folgen)
URL:https://dav-weilheim.de/veranstaltung/jdav-jugend-3/
LOCATION:Ort wird noch bekanntgegeben
CATEGORIES:JDAV Jugend
ORGANIZER;CN="Greta S%C3%BCberkr%C3%BCb":MAILTO:klettern@sueberkrueb.de
END:VEVENT
BEGIN:VEVENT
DTSTART;TZID=Europe/Berlin:20230703T180000
DTEND;TZID=Europe/Berlin:20230703T200000
DTSTAMP:20260421T134553
CREATED:20230504T100715Z
LAST-MODIFIED:20230504T100715Z
UID:10002555-1688407200-1688414400@dav-weilheim.de
SUMMARY:JDAV-Jugend Tourenplanung
DESCRIPTION:Tourenplanung und Spiele
URL:https://dav-weilheim.de/veranstaltung/jdav-jugend-tourenplanung/
LOCATION:Talhütte\, Sektionshaus\, Hofstraße 17\, Weilheim\, 82362\, Deutschland
CATEGORIES:JDAV Jugend
ORGANIZER;CN="Greta S%C3%BCberkr%C3%BCb":MAILTO:klettern@sueberkrueb.de
END:VEVENT
BEGIN:VEVENT
DTSTART;VALUE=DATE:20230630
DTEND;VALUE=DATE:20230703
DTSTAMP:20260421T134553
CREATED:20230505T103830Z
LAST-MODIFIED:20230505T103954Z
UID:10002565-1688083200-1688342399@dav-weilheim.de
SUMMARY:JDAV-Bayerncamp
DESCRIPTION:Wir treffen uns mit Gruppen aus ganz Bayern zu einem gemeinsamen Lagerwochenende mit vielen Spielen und Aktionen. \nKosten: 35\,– Euro pro Person \nZeltplatz Bucher Berg\, Breitenbrunn \nAnmeldung ab sofort möglich (weitere Infos bei Anmeldung)
URL:https://dav-weilheim.de/veranstaltung/jdav-bayerncamp/
CATEGORIES:Geckos,JDAV Jugend,JDAV Kinder
ORGANIZER;CN="Greta S%C3%BCberkr%C3%BCb":MAILTO:klettern@sueberkrueb.de
END:VEVENT
BEGIN:VEVENT
DTSTART;TZID=Europe/Berlin:20230627T180000
DTEND;TZID=Europe/Berlin:20230627T200000
DTSTAMP:20260421T134553
CREATED:20230504T100536Z
LAST-MODIFIED:20230504T100536Z
UID:10002554-1687888800-1687896000@dav-weilheim.de
SUMMARY:JDAV-Jugend Klettern
DESCRIPTION:6\,– Euro mitbringen
URL:https://dav-weilheim.de/veranstaltung/jdav-jugend-klettern-2/
LOCATION:Kletterhalle Weilheim\, Trifthofstraße 58\, Weilheim\, 82362\, Deutschland
CATEGORIES:JDAV Jugend
ORGANIZER;CN="Greta S%C3%BCberkr%C3%BCb":MAILTO:klettern@sueberkrueb.de
END:VEVENT
BEGIN:VEVENT
DTSTART;TZID=Europe/Berlin:20230619T180000
DTEND;TZID=Europe/Berlin:20230619T200000
DTSTAMP:20260421T134553
CREATED:20230504T100348Z
LAST-MODIFIED:20230504T100348Z
UID:10002553-1687197600-1687204800@dav-weilheim.de
SUMMARY:JDAV-Jugend Ausbildung
DESCRIPTION:Knotenkunde
URL:https://dav-weilheim.de/veranstaltung/jdav-jugend-ausbildung/
LOCATION:Talhütte\, Sektionshaus\, Hofstraße 17\, Weilheim\, 82362\, Deutschland
CATEGORIES:JDAV Jugend
ORGANIZER;CN="Lukas Brandmeir":MAILTO:lukasbrandmeir@gmail.com
END:VEVENT
BEGIN:VEVENT
DTSTART;TZID=Europe/Berlin:20230612T180000
DTEND;TZID=Europe/Berlin:20230612T200000
DTSTAMP:20260421T134553
CREATED:20230504T100153Z
LAST-MODIFIED:20230504T100153Z
UID:10002552-1686592800-1686600000@dav-weilheim.de
SUMMARY:JDAV-Jugend T-Shirts bemalen
DESCRIPTION:
URL:https://dav-weilheim.de/veranstaltung/jdav-jugend-t-shirts-bemalen/
LOCATION:Talhütte\, Sektionshaus\, Hofstraße 17\, Weilheim\, 82362\, Deutschland
CATEGORIES:JDAV Jugend
ORGANIZER;CN="Lukas Brandmeir":MAILTO:lukasbrandmeir@gmail.com
END:VEVENT
BEGIN:VEVENT
DTSTART;VALUE=DATE:20230526
DTEND;VALUE=DATE:20230530
DTSTAMP:20260421T134553
CREATED:20220521T164223Z
LAST-MODIFIED:20230411T190339Z
UID:10001409-1685059200-1685404799@dav-weilheim.de
SUMMARY:JDAV Pfingstwochenende
DESCRIPTION:Pfingstwochenende ab 14 Jahren\, in Österreich \nAusschreibung Pfingsten JDAV 2023
URL:https://dav-weilheim.de/veranstaltung/jdav-pfingstwochenende/
CATEGORIES:Geckos,JDAV Jugend
ORGANIZER;CN="Greta S%C3%BCberkr%C3%BCb":MAILTO:klettern@sueberkrueb.de
END:VEVENT
BEGIN:VEVENT
DTSTART;TZID=Europe/Berlin:20230520T090000
DTEND;TZID=Europe/Berlin:20230521T160000
DTSTAMP:20260421T134553
CREATED:20230505T095956Z
LAST-MODIFIED:20230505T095956Z
UID:10002561-1684573200-1684684800@dav-weilheim.de
SUMMARY:JDAV-Hüttenübernachtung auf der Kaseralm
DESCRIPTION:Anmeldung erforderlich bis 17.05. \nKosten: 8\,– Euro pro Person (alle weiteren Infos bei Anmeldung)
URL:https://dav-weilheim.de/veranstaltung/jdav-huettenuebernachtung-auf-der-kaseralm/
LOCATION:Kaseralm\, An der Glentleiten\, Ohlstadt\, 82439\, Deutschland
CATEGORIES:Geckos,JDAV Jugend,JDAV Kinder
ORGANIZER;CN="Greta S%C3%BCberkr%C3%BCb":MAILTO:klettern@sueberkrueb.de
END:VEVENT
BEGIN:VEVENT
DTSTART;TZID=Europe/Berlin:20230508T180000
DTEND;TZID=Europe/Berlin:20230508T200000
DTSTAMP:20260421T134553
CREATED:20230504T095034Z
LAST-MODIFIED:20230504T095034Z
UID:10002549-1683568800-1683576000@dav-weilheim.de
SUMMARY:JDAV-Jugend
DESCRIPTION:Wir überlegen uns\, wie wir den Jugendraum in der Talhütte gestalten wollen
URL:https://dav-weilheim.de/veranstaltung/jdav-jugend/
LOCATION:Talhütte\, Sektionshaus\, Hofstraße 17\, Weilheim\, 82362\, Deutschland
CATEGORIES:JDAV Jugend
ORGANIZER;CN="Greta S%C3%BCberkr%C3%BCb":MAILTO:klettern@sueberkrueb.de
END:VEVENT
BEGIN:VEVENT
DTSTART;VALUE=DATE:20230423
DTEND;VALUE=DATE:20230424
DTSTAMP:20260421T134553
CREATED:20221128T192039Z
LAST-MODIFIED:20230420T202818Z
UID:10002341-1682208000-1682294399@dav-weilheim.de
SUMMARY:Anklettern Sonnenplatten Scharnitz
DESCRIPTION:Update: Aufgrund der aktuellen Wetterprognosen wird das Anklettern am Sonntag leider in die Kletterhalle Weilheim verlegt. Diese wird exklusiv von 8:00 Uhr bis 10:00 Uhr für diese Veranstaltung geöffnet!\n \nGemeinsamer Klettertag im Klettergarten Sonnenplatte in Scharnitz mit dem Klettertreff\, der Inklusionsklettergruppe\, den Geckos und der Jugend.
URL:https://dav-weilheim.de/veranstaltung/anklettern-sonnenplatten-scharnitz-2/
CATEGORIES:Geckos,Inklusive Klettergruppe,JDAV Jugend,Klettertreff
ORGANIZER;CN="Robert Waginger":MAILTO:robert.waginger@dav-weilheim.de
END:VEVENT
BEGIN:VEVENT
DTSTART;TZID=Europe/Berlin:20230417T180000
DTEND;TZID=Europe/Berlin:20230417T200000
DTSTAMP:20260421T134553
CREATED:20230410T193118Z
LAST-MODIFIED:20230417T143748Z
UID:10002520-1681754400-1681761600@dav-weilheim.de
SUMMARY:Erste Gruppenstunde JDAV
DESCRIPTION:ab 12 Jahre \nKlettern in der Kletterhalle in Weilheim \nmitbringen: 6\,– €\, gerne Getränk und wer hat Kletterausrüstung \n 
URL:https://dav-weilheim.de/veranstaltung/erste-gruppenstunde-jdav/
LOCATION:Kletterhalle Weilheim\, Trifthofstraße 58\, Weilheim\, 82362\, Deutschland
CATEGORIES:JDAV,JDAV Jugend,Kinder- und Jugendgruppen
ORGANIZER;CN="Greta S%C3%BCberkr%C3%BCb":MAILTO:klettern@sueberkrueb.de
END:VEVENT
BEGIN:VEVENT
DTSTART;TZID=Europe/Berlin:20230331T140000
DTEND;TZID=Europe/Berlin:20230402T170000
DTSTAMP:20260421T134553
CREATED:20230124T130210Z
LAST-MODIFIED:20230124T131037Z
UID:10002501-1680271200-1680454800@dav-weilheim.de
SUMMARY:JDAV Klösterl Wochenende
DESCRIPTION:Die Jugend ab12 Jahren verbringt ein Wochenende im Klösterl am Walchensee. \nbei interesse melden. \ninfos in der Ausschreibung \nAusschreibung_Klösterl_Wochenende_23
URL:https://dav-weilheim.de/veranstaltung/jdav-kloesterl-wochenende/
CATEGORIES:Geckos,JDAV Jugend
ORGANIZER;CN="Greta S%C3%BCberkr%C3%BCb":MAILTO:klettern@sueberkrueb.de
END:VEVENT
BEGIN:VEVENT
DTSTART;VALUE=DATE:20230219
DTEND;VALUE=DATE:20230220
DTSTAMP:20260421T134553
CREATED:20230120T141414Z
LAST-MODIFIED:20230212T094340Z
UID:10002500-1676764800-1676851199@dav-weilheim.de
SUMMARY:JDAV Tagestour
DESCRIPTION:Der JDAV macht eine Tagestour. \nMehr infos bei Greta \n  \n  \n  \n 
URL:https://dav-weilheim.de/veranstaltung/bob-tour-auf-den-teufelsstaettkopf/
CATEGORIES:Geckos,JDAV Jugend
ORGANIZER;CN="Greta S%C3%BCberkr%C3%BCb":MAILTO:klettern@sueberkrueb.de
END:VEVENT
BEGIN:VEVENT
DTSTART;TZID=Europe/Berlin:20220419T173000
DTEND;TZID=Europe/Berlin:20220419T200000
DTSTAMP:20260421T134554
CREATED:20220411T141937Z
LAST-MODIFIED:20220411T141937Z
UID:10001403-1650389400-1650398400@dav-weilheim.de
SUMMARY:Sicherungsupdate
DESCRIPTION:Sicherungsupdate im Vorstiegssichern. \nFür Jugendliche ab 16 Jahren. \nVoraussetzung ist Vorstieg sichern und Klettern können. \nEs geht ums schnelle\, sicherer und dynamisches sichern. \nBegrenzte Teilnehmer Zahl. \nAnmelden unter klettern@sueberkrueb.de
URL:https://dav-weilheim.de/veranstaltung/sicherungsupdate/
LOCATION:Kletterhalle Weilheim\, Trifthofstraße 58\, Weilheim\, 82362\, Deutschland
CATEGORIES:Ausbildung,JDAV Jugend
ORGANIZER;CN="Greta S%C3%BCberkr%C3%BCb":MAILTO:klettern@sueberkrueb.de
END:VEVENT
BEGIN:VEVENT
DTSTART;TZID=Europe/Berlin:20220305T091500
DTEND;TZID=Europe/Berlin:20220305T120000
DTSTAMP:20260421T134554
CREATED:20220226T194458Z
LAST-MODIFIED:20220226T194852Z
UID:10001396-1646471700-1646481600@dav-weilheim.de
SUMMARY:Besuch / Führung  EVA (Erbenschwanger Verwertungs- und Abfallentsorgung)
DESCRIPTION:Für alle die das Thema Müll interessiert. \nBegrenzte Teilnehmer Zahl \n2G \nAbfahrt 9:15Uhr ca bis 12Uhr. \n  \n 
URL:https://dav-weilheim.de/veranstaltung/besuch-fuehrung-eva-erbenschwanger-verwertungs-und-abfallentsorgungs/
CATEGORIES:Offenes Programm
ORGANIZER;CN="Greta S%C3%BCberkr%C3%BCb":MAILTO:klettern@sueberkrueb.de
END:VEVENT
END:VCALENDAR