BEGIN:VCALENDAR
VERSION:2.0
PRODID:-//Deutscher Alpenverein Sektion Weilheim - ECPv6.15.20//NONSGML v1.0//EN
CALSCALE:GREGORIAN
METHOD:PUBLISH
X-ORIGINAL-URL:https://dav-weilheim.de
X-WR-CALDESC:Veranstaltungen für Deutscher Alpenverein Sektion Weilheim
REFRESH-INTERVAL;VALUE=DURATION:PT1H
X-Robots-Tag:noindex
X-PUBLISHED-TTL:PT1H
BEGIN:VTIMEZONE
TZID:Europe/Berlin
BEGIN:DAYLIGHT
TZOFFSETFROM:+0100
TZOFFSETTO:+0200
TZNAME:CEST
DTSTART:20190331T010000
END:DAYLIGHT
BEGIN:STANDARD
TZOFFSETFROM:+0200
TZOFFSETTO:+0100
TZNAME:CET
DTSTART:20191027T010000
END:STANDARD
BEGIN:DAYLIGHT
TZOFFSETFROM:+0100
TZOFFSETTO:+0200
TZNAME:CEST
DTSTART:20200329T010000
END:DAYLIGHT
BEGIN:STANDARD
TZOFFSETFROM:+0200
TZOFFSETTO:+0100
TZNAME:CET
DTSTART:20201025T010000
END:STANDARD
BEGIN:DAYLIGHT
TZOFFSETFROM:+0100
TZOFFSETTO:+0200
TZNAME:CEST
DTSTART:20210328T010000
END:DAYLIGHT
BEGIN:STANDARD
TZOFFSETFROM:+0200
TZOFFSETTO:+0100
TZNAME:CET
DTSTART:20211031T010000
END:STANDARD
END:VTIMEZONE
BEGIN:VEVENT
DTSTART;VALUE=DATE:20200615
DTEND;VALUE=DATE:20200620
DTSTAMP:20260424T122755
CREATED:20200129T202146Z
LAST-MODIFIED:20200129T202146Z
UID:10001102-1592179200-1592611199@dav-weilheim.de
SUMMARY:Senioren-Wanderwoche Kelchsau
DESCRIPTION:Senioren-Wanderwoche Kelchsau\, Wörgl/ Österreich; \n(4-6 Std./Tag\, 600-1000 Hm/Tag); \nSchwierigkeit: schwer; \n(max. 18 Teilnehmer\, Anmeldeschluss 28.02.2020);
URL:https://dav-weilheim.de/veranstaltung/senioren-wanderwoche-kelchsau/
CATEGORIES:Seniorengruppe
ORGANIZER;CN="Franzi Pf%C3%A4ffl":MAILTO:franzi.pfaeffl@dav-weilheim.de
END:VEVENT
BEGIN:VEVENT
DTSTART;VALUE=DATE:20200617
DTEND;VALUE=DATE:20200620
DTSTAMP:20260424T122756
CREATED:20200316T201432Z
LAST-MODIFIED:20200316T201432Z
UID:10001143-1592352000-1592611199@dav-weilheim.de
SUMMARY:Ausfahrt Erfurter Hütte - Inklusionsgruppe
DESCRIPTION:Klettern für Menschen mit und ohne Behinderung; \nin 3 Gruppen aufgeteilt; \n(Anmeldung ist bereits abgeschlossen)
URL:https://dav-weilheim.de/veranstaltung/ausfahrt-erfurter-huette-inklusionsgruppe/
CATEGORIES:Inklusive Klettergruppe
END:VEVENT
BEGIN:VEVENT
DTSTART;TZID=Europe/Berlin:20200617T190000
DTEND;TZID=Europe/Berlin:20200617T210000
DTSTAMP:20260424T122756
CREATED:20200316T200234Z
LAST-MODIFIED:20200316T200234Z
UID:10001139-1592420400-1592427600@dav-weilheim.de
SUMMARY:Klettertreff
DESCRIPTION:Ab 19:00 Uhr in der Kletterhalle Weilheim. Teilnehmen können alle ab 16 Jahre\, die mindestens Toprope klettern und sichern können. Betreuer stehen den Teilnehmern bei Fragen zur Seite. Ansonsten findet hier jeder einen Kletterpartner\, der einen sucht.
URL:https://dav-weilheim.de/veranstaltung/klettertreff-30/
LOCATION:Kletterhalle Weilheim\, Trifthofstraße 58\, Weilheim\, 82362\, Deutschland
CATEGORIES:Klettertreff
ORGANIZER;CN="Ruth Lorbacher":MAILTO:Ruth-Lorbacher@gmx.de
END:VEVENT
END:VCALENDAR