BEGIN:VCALENDAR
VERSION:2.0
PRODID:-//Deutscher Alpenverein Sektion Weilheim - ECPv6.15.20//NONSGML v1.0//EN
CALSCALE:GREGORIAN
METHOD:PUBLISH
X-ORIGINAL-URL:https://dav-weilheim.de
X-WR-CALDESC:Veranstaltungen für Deutscher Alpenverein Sektion Weilheim
REFRESH-INTERVAL;VALUE=DURATION:PT1H
X-Robots-Tag:noindex
X-PUBLISHED-TTL:PT1H
BEGIN:VTIMEZONE
TZID:Europe/Berlin
BEGIN:DAYLIGHT
TZOFFSETFROM:+0100
TZOFFSETTO:+0200
TZNAME:CEST
DTSTART:20190331T010000
END:DAYLIGHT
BEGIN:STANDARD
TZOFFSETFROM:+0200
TZOFFSETTO:+0100
TZNAME:CET
DTSTART:20191027T010000
END:STANDARD
BEGIN:DAYLIGHT
TZOFFSETFROM:+0100
TZOFFSETTO:+0200
TZNAME:CEST
DTSTART:20200329T010000
END:DAYLIGHT
BEGIN:STANDARD
TZOFFSETFROM:+0200
TZOFFSETTO:+0100
TZNAME:CET
DTSTART:20201025T010000
END:STANDARD
BEGIN:DAYLIGHT
TZOFFSETFROM:+0100
TZOFFSETTO:+0200
TZNAME:CEST
DTSTART:20210328T010000
END:DAYLIGHT
BEGIN:STANDARD
TZOFFSETFROM:+0200
TZOFFSETTO:+0100
TZNAME:CET
DTSTART:20211031T010000
END:STANDARD
END:VTIMEZONE
BEGIN:VEVENT
DTSTART;VALUE=DATE:20200621
DTEND;VALUE=DATE:20200622
DTSTAMP:20260424T191516
CREATED:20200115T102602Z
LAST-MODIFIED:20200115T102602Z
UID:10001080-1592697600-1592783999@dav-weilheim.de
SUMMARY:Familiengruppe: Steckengerkreuz
DESCRIPTION:von Unterammergau durch die Schleifmühlenklamm für Kinder ab 5 Jahre
URL:https://dav-weilheim.de/veranstaltung/familiengruppe-steckengerkreuz/
CATEGORIES:Familiengruppe Bergfüchse,Familiengruppen
ORGANIZER;CN="Andrea Kunkel":MAILTO:andrea.kunkel@dav-weilheim.de
END:VEVENT
BEGIN:VEVENT
DTSTART;TZID=Europe/Berlin:20200621T100000
DTEND;TZID=Europe/Berlin:20200621T150000
DTSTAMP:20260424T191516
CREATED:20200127T195539Z
LAST-MODIFIED:20200127T195606Z
UID:10000912-1592733600-1592751600@dav-weilheim.de
SUMMARY:MTB Fahrtechnik Grundkurs
DESCRIPTION:Fahrtechnik-Training in Kombination mit einer Tour\, auf der die gelernten Techniken gleich ausprobiert werden können. Im Grundkurs geht es hauptsächlich um die Grundposition auf dem Rad\, Gleichgewicht\, Richtungswechsel und richtig Bremsen. Der Kurs ist für Einsteiger und Teilnehmer gedacht\, die bei den genannten Themen an sich arbeiten wollen. \nMax. 7 Teilnehmer. Keine E-Bikes!
URL:https://dav-weilheim.de/veranstaltung/mtb-fahrtechnik-grundkurs/
CATEGORIES:Ausbildung,Mountainbikegruppe
ORGANIZER;CN="Cajus Pollmeier":MAILTO:cajus.pollmeier@dav-weilheim.de
END:VEVENT
END:VCALENDAR