BEGIN:VCALENDAR
VERSION:2.0
PRODID:-//Deutscher Alpenverein Sektion Weilheim - ECPv6.15.20//NONSGML v1.0//EN
CALSCALE:GREGORIAN
METHOD:PUBLISH
X-ORIGINAL-URL:https://dav-weilheim.de
X-WR-CALDESC:Veranstaltungen für Deutscher Alpenverein Sektion Weilheim
REFRESH-INTERVAL;VALUE=DURATION:PT1H
X-Robots-Tag:noindex
X-PUBLISHED-TTL:PT1H
BEGIN:VTIMEZONE
TZID:Europe/Berlin
BEGIN:DAYLIGHT
TZOFFSETFROM:+0100
TZOFFSETTO:+0200
TZNAME:CEST
DTSTART:20190331T010000
END:DAYLIGHT
BEGIN:STANDARD
TZOFFSETFROM:+0200
TZOFFSETTO:+0100
TZNAME:CET
DTSTART:20191027T010000
END:STANDARD
BEGIN:DAYLIGHT
TZOFFSETFROM:+0100
TZOFFSETTO:+0200
TZNAME:CEST
DTSTART:20200329T010000
END:DAYLIGHT
BEGIN:STANDARD
TZOFFSETFROM:+0200
TZOFFSETTO:+0100
TZNAME:CET
DTSTART:20201025T010000
END:STANDARD
BEGIN:DAYLIGHT
TZOFFSETFROM:+0100
TZOFFSETTO:+0200
TZNAME:CEST
DTSTART:20210328T010000
END:DAYLIGHT
BEGIN:STANDARD
TZOFFSETFROM:+0200
TZOFFSETTO:+0100
TZNAME:CET
DTSTART:20211031T010000
END:STANDARD
END:VTIMEZONE
BEGIN:VEVENT
DTSTART;VALUE=DATE:20200627
DTEND;VALUE=DATE:20200629
DTSTAMP:20260423T121039
CREATED:20200115T141351Z
LAST-MODIFIED:20200115T141351Z
UID:10000907-1593216000-1593388799@dav-weilheim.de
SUMMARY:Familiengruppe: Zugspitze
DESCRIPTION:ab Ehrwald via Gatterl mit Übernachtung auf der Knorrhütte. Für Kinder ab 12 Jahren.
URL:https://dav-weilheim.de/veranstaltung/familiengruppe-zugspitze/
CATEGORIES:Familiengruppe Alpinis,Familiengruppen
ORGANIZER;CN="Eva Tauber":MAILTO:eva@tauber-grosser.de
END:VEVENT
BEGIN:VEVENT
DTSTART;TZID=Europe/Berlin:20200628T080000
DTEND;TZID=Europe/Berlin:20200628T170000
DTSTAMP:20260423T121039
CREATED:20200115T071811Z
LAST-MODIFIED:20200115T071811Z
UID:10001042-1593331200-1593363600@dav-weilheim.de
SUMMARY:Bergtour Gehrenspitze
DESCRIPTION:Tannheimer Alpen \nmittel
URL:https://dav-weilheim.de/veranstaltung/bergtour-gehrenspitze/
CATEGORIES:Offenes Programm
ORGANIZER;CN="Michael Serve":MAILTO:michi.serve@web.de
END:VEVENT
END:VCALENDAR