BEGIN:VCALENDAR
VERSION:2.0
PRODID:-//Deutscher Alpenverein Sektion Weilheim - ECPv6.15.20//NONSGML v1.0//EN
CALSCALE:GREGORIAN
METHOD:PUBLISH
X-WR-CALNAME:Deutscher Alpenverein Sektion Weilheim
X-ORIGINAL-URL:https://dav-weilheim.de
X-WR-CALDESC:Veranstaltungen für Deutscher Alpenverein Sektion Weilheim
REFRESH-INTERVAL;VALUE=DURATION:PT1H
X-Robots-Tag:noindex
X-PUBLISHED-TTL:PT1H
BEGIN:VTIMEZONE
TZID:Europe/Berlin
BEGIN:DAYLIGHT
TZOFFSETFROM:+0100
TZOFFSETTO:+0200
TZNAME:CEST
DTSTART:20200329T010000
END:DAYLIGHT
BEGIN:STANDARD
TZOFFSETFROM:+0200
TZOFFSETTO:+0100
TZNAME:CET
DTSTART:20201025T010000
END:STANDARD
BEGIN:DAYLIGHT
TZOFFSETFROM:+0100
TZOFFSETTO:+0200
TZNAME:CEST
DTSTART:20210328T010000
END:DAYLIGHT
BEGIN:STANDARD
TZOFFSETFROM:+0200
TZOFFSETTO:+0100
TZNAME:CET
DTSTART:20211031T010000
END:STANDARD
BEGIN:DAYLIGHT
TZOFFSETFROM:+0100
TZOFFSETTO:+0200
TZNAME:CEST
DTSTART:20220327T010000
END:DAYLIGHT
BEGIN:STANDARD
TZOFFSETFROM:+0200
TZOFFSETTO:+0100
TZNAME:CET
DTSTART:20221030T010000
END:STANDARD
END:VTIMEZONE
BEGIN:VEVENT
DTSTART;VALUE=DATE:20210704
DTEND;VALUE=DATE:20210708
DTSTAMP:20260420T121724
CREATED:20210605T194043Z
LAST-MODIFIED:20210605T194043Z
UID:10001224-1625356800-1625702399@dav-weilheim.de
SUMMARY:Wanderungen rund um Brixen
DESCRIPTION:4 Tage Wanderungen in Südtirol rund um Brixen (tgl. 3-4 Std.\, tgl. ca. 300 Hm)
URL:https://dav-weilheim.de/veranstaltung/wanderungen-rund-um-brixen/
CATEGORIES:Seniorengruppe
END:VEVENT
BEGIN:VEVENT
DTSTART;VALUE=DATE:20210707
DTEND;VALUE=DATE:20210708
DTSTAMP:20260420T121724
CREATED:20210605T194043Z
LAST-MODIFIED:20210605T194043Z
UID:10001225-1625616000-1625702399@dav-weilheim.de
SUMMARY:Wanderung Vorderunnütz
DESCRIPTION:Vorderunnütz 2078 m (ca. 1450 Hm\, ca. 14 km\, ca. 7 Std.)\, Rofangebirge
URL:https://dav-weilheim.de/veranstaltung/wanderung-vorderunnuetz/
ORGANIZER;CN="Franzi Pf%C3%A4ffl":MAILTO:franzi.pfaeffl@dav-weilheim.de
END:VEVENT
BEGIN:VEVENT
DTSTART;TZID=Europe/Berlin:20210707T193000
DTEND;TZID=Europe/Berlin:20210707T213000
DTSTAMP:20260420T121724
CREATED:20210702T190130Z
LAST-MODIFIED:20210702T190130Z
UID:10001278-1625686200-1625693400@dav-weilheim.de
SUMMARY:Vorbereitungskurs Gletscherspaltenbergung
DESCRIPTION:Kostenloser Kurs zur Vorbereitung für einen Gletscherspaltenbergungskurs:\n \nThemeninhalte: \n\n\nMaterialkunde (Pickel\, Steigeisen\, Gurt\, Bandschlingen\, Reepschnüre etc.)\nAnpassen der Steigeisen auf die Schuhe bzw. selbstständiges Anziehen der Steigeisen\nKnotenkunde (HMS\, Achter\, Prusik)\nTheorie und Praxis: Fixpunkt im Eis (Eisschraube\, T-Anker)\n\nBitte bringt zu diesem Treffen Eure die dafür nötigen Ausrüstungsgegenstände\, soweit vorhanden mit!
URL:https://dav-weilheim.de/veranstaltung/vorbereitungskurs-gletscherspaltenbergung/
LOCATION:Talhütte\, Sektionshaus\, Hofstraße 17\, Weilheim\, 82362\, Deutschland
CATEGORIES:Ausbildung
ORGANIZER;CN="Andreas Richter":MAILTO:andreas.richter@dav-weilheim.de
END:VEVENT
END:VCALENDAR