BEGIN:VCALENDAR
VERSION:2.0
PRODID:-//Deutscher Alpenverein Sektion Weilheim - ECPv6.15.20//NONSGML v1.0//EN
CALSCALE:GREGORIAN
METHOD:PUBLISH
X-ORIGINAL-URL:https://dav-weilheim.de
X-WR-CALDESC:Veranstaltungen für Deutscher Alpenverein Sektion Weilheim
REFRESH-INTERVAL;VALUE=DURATION:PT1H
X-Robots-Tag:noindex
X-PUBLISHED-TTL:PT1H
BEGIN:VTIMEZONE
TZID:Europe/Berlin
BEGIN:DAYLIGHT
TZOFFSETFROM:+0100
TZOFFSETTO:+0200
TZNAME:CEST
DTSTART:20200329T010000
END:DAYLIGHT
BEGIN:STANDARD
TZOFFSETFROM:+0200
TZOFFSETTO:+0100
TZNAME:CET
DTSTART:20201025T010000
END:STANDARD
BEGIN:DAYLIGHT
TZOFFSETFROM:+0100
TZOFFSETTO:+0200
TZNAME:CEST
DTSTART:20210328T010000
END:DAYLIGHT
BEGIN:STANDARD
TZOFFSETFROM:+0200
TZOFFSETTO:+0100
TZNAME:CET
DTSTART:20211031T010000
END:STANDARD
BEGIN:DAYLIGHT
TZOFFSETFROM:+0100
TZOFFSETTO:+0200
TZNAME:CEST
DTSTART:20220327T010000
END:DAYLIGHT
BEGIN:STANDARD
TZOFFSETFROM:+0200
TZOFFSETTO:+0100
TZNAME:CET
DTSTART:20221030T010000
END:STANDARD
END:VTIMEZONE
BEGIN:VEVENT
DTSTART;VALUE=DATE:20210801
DTEND;VALUE=DATE:20210804
DTSTAMP:20260422T120016
CREATED:20210605T194128Z
LAST-MODIFIED:20210605T194128Z
UID:10000997-1627776000-1628035199@dav-weilheim.de
SUMMARY:Hüttentour Estergebirge
DESCRIPTION:3-tägige Hüttentour durchs Estergebirge von Eschenlohe bis Partenkirchen; mit Übernachtungen auf der Weilheimer Hütte und dem Wankhaus; 1. Tag (ca. 1300 Hm\, ca. 5 Std.) 2. Tag (ca. 4 Std.) 3. Tag (ca. 4 Std.) Ab 12 Jahren
URL:https://dav-weilheim.de/veranstaltung/huettentour-estergebirge/
CATEGORIES:Familiengruppen
ORGANIZER;CN="Eva Tauber":MAILTO:eva@tauber-grosser.de
END:VEVENT
BEGIN:VEVENT
DTSTART;TZID=Europe/Berlin:20210803T193000
DTEND;TZID=Europe/Berlin:20210803T230000
DTSTAMP:20260422T120016
CREATED:20210709T184224Z
LAST-MODIFIED:20210710T183212Z
UID:10001279-1628019000-1628031600@dav-weilheim.de
SUMMARY:Mitgliederversammlung 2020
DESCRIPTION:Einladung_HV_08_2021 \nMitgleiderversammlung 2020 als Nachholtermine für die Corona-bedingt abgesagten Termine vom 13.03.2020 und 27.11.2020.
URL:https://dav-weilheim.de/veranstaltung/mitgliederversammlung-2020-2/
LOCATION:Gemeindehaus Marnbach\, Seeshaupter Straße 10\, Marnbach/ Weilheim\, Bayern\, 82362\, Deutschland
CATEGORIES:Mitgliederversammlung
END:VEVENT
END:VCALENDAR