BEGIN:VCALENDAR
VERSION:2.0
PRODID:-//Deutscher Alpenverein Sektion Weilheim - ECPv6.15.20//NONSGML v1.0//EN
CALSCALE:GREGORIAN
METHOD:PUBLISH
X-WR-CALNAME:Deutscher Alpenverein Sektion Weilheim
X-ORIGINAL-URL:https://dav-weilheim.de
X-WR-CALDESC:Veranstaltungen für Deutscher Alpenverein Sektion Weilheim
REFRESH-INTERVAL;VALUE=DURATION:PT1H
X-Robots-Tag:noindex
X-PUBLISHED-TTL:PT1H
BEGIN:VTIMEZONE
TZID:Europe/Berlin
BEGIN:DAYLIGHT
TZOFFSETFROM:+0100
TZOFFSETTO:+0200
TZNAME:CEST
DTSTART:20230326T010000
END:DAYLIGHT
BEGIN:STANDARD
TZOFFSETFROM:+0200
TZOFFSETTO:+0100
TZNAME:CET
DTSTART:20231029T010000
END:STANDARD
BEGIN:DAYLIGHT
TZOFFSETFROM:+0100
TZOFFSETTO:+0200
TZNAME:CEST
DTSTART:20240331T010000
END:DAYLIGHT
BEGIN:STANDARD
TZOFFSETFROM:+0200
TZOFFSETTO:+0100
TZNAME:CET
DTSTART:20241027T010000
END:STANDARD
BEGIN:DAYLIGHT
TZOFFSETFROM:+0100
TZOFFSETTO:+0200
TZNAME:CEST
DTSTART:20250330T010000
END:DAYLIGHT
BEGIN:STANDARD
TZOFFSETFROM:+0200
TZOFFSETTO:+0100
TZNAME:CET
DTSTART:20251026T010000
END:STANDARD
END:VTIMEZONE
BEGIN:VEVENT
DTSTART;VALUE=DATE:20241109
DTEND;VALUE=DATE:20241110
DTSTAMP:20260423T171435
CREATED:20231119T122000Z
LAST-MODIFIED:20240529T140859Z
UID:10002819-1731110400-1731196799@dav-weilheim.de
SUMMARY:Herbstwanderung aufs Grasköpfl (1753m)/ Karwendel
DESCRIPTION:Unser Wanderweg verläuft zunächst durch den Wald\, zum Schluss südseitig über Wiesen auf den schönen\, in der Regel eher weniger überlaufenen Aussichtsgipfel des Grasköpfls. Im Anschluss an die Tour möchten wir am nahegelegenen Grillplatz noch gemeinsam Stockbrot grillen.
URL:https://dav-weilheim.de/veranstaltung/herbstwanderung-aufs-graskoepfl-1753m-karwendel/
CATEGORIES:Familiengruppe Bergfüchse
ORGANIZER;CN="Andrea Kunkel":MAILTO:andrea.kunkel@dav-weilheim.de
END:VEVENT
END:VCALENDAR