BEGIN:VCALENDAR
VERSION:2.0
PRODID:-//Deutscher Alpenverein Sektion Weilheim - ECPv6.15.20//NONSGML v1.0//EN
CALSCALE:GREGORIAN
METHOD:PUBLISH
X-WR-CALNAME:Deutscher Alpenverein Sektion Weilheim
X-ORIGINAL-URL:https://dav-weilheim.de
X-WR-CALDESC:Veranstaltungen für Deutscher Alpenverein Sektion Weilheim
REFRESH-INTERVAL;VALUE=DURATION:PT1H
X-Robots-Tag:noindex
X-PUBLISHED-TTL:PT1H
BEGIN:VTIMEZONE
TZID:Europe/Berlin
BEGIN:DAYLIGHT
TZOFFSETFROM:+0100
TZOFFSETTO:+0200
TZNAME:CEST
DTSTART:20230326T010000
END:DAYLIGHT
BEGIN:STANDARD
TZOFFSETFROM:+0200
TZOFFSETTO:+0100
TZNAME:CET
DTSTART:20231029T010000
END:STANDARD
BEGIN:DAYLIGHT
TZOFFSETFROM:+0100
TZOFFSETTO:+0200
TZNAME:CEST
DTSTART:20240331T010000
END:DAYLIGHT
BEGIN:STANDARD
TZOFFSETFROM:+0200
TZOFFSETTO:+0100
TZNAME:CET
DTSTART:20241027T010000
END:STANDARD
BEGIN:DAYLIGHT
TZOFFSETFROM:+0100
TZOFFSETTO:+0200
TZNAME:CEST
DTSTART:20250330T010000
END:DAYLIGHT
BEGIN:STANDARD
TZOFFSETFROM:+0200
TZOFFSETTO:+0100
TZNAME:CET
DTSTART:20251026T010000
END:STANDARD
END:VTIMEZONE
BEGIN:VEVENT
DTSTART;TZID=Europe/Berlin:20241113T163000
DTEND;TZID=Europe/Berlin:20241113T180000
DTSTAMP:20260423T171211
CREATED:20241026T181347Z
LAST-MODIFIED:20241026T181347Z
UID:10002966-1731515400-1731520800@dav-weilheim.de
SUMMARY:JDAV-KINDER Klettern (5\,-- Euro Eintritt)
DESCRIPTION:denkt an Socken und Getränk
URL:https://dav-weilheim.de/veranstaltung/jdav-kinder-klettern-5-euro-eintritt/
LOCATION:Kletterhalle Weilheim\, Trifthofstraße 58\, Weilheim\, 82362\, Deutschland
CATEGORIES:JDAV,JDAV Kinder
ORGANIZER;CN="Karin Br%C3%BCderle":MAILTO:karin.bruederle@t-online.de
END:VEVENT
BEGIN:VEVENT
DTSTART;TZID=Europe/Berlin:20241113T180000
DTEND;TZID=Europe/Berlin:20241113T200000
DTSTAMP:20260423T171211
CREATED:20241026T164751Z
LAST-MODIFIED:20241026T180133Z
UID:10002955-1731520800-1731528000@dav-weilheim.de
SUMMARY:JDAV-JUGEND Klettern (6\,-- Euro Eintritt)
DESCRIPTION:
URL:https://dav-weilheim.de/veranstaltung/klettern-6-euro-eintritt/
LOCATION:Kletterhalle Weilheim\, Trifthofstraße 58\, Weilheim\, 82362\, Deutschland
CATEGORIES:JDAV,JDAV Jugend
ORGANIZER;CN="Greta S%C3%BCberkr%C3%BCb":MAILTO:klettern@sueberkrueb.de
END:VEVENT
END:VCALENDAR