BEGIN:VCALENDAR
VERSION:2.0
PRODID:-//Deutscher Alpenverein Sektion Weilheim - ECPv6.15.20//NONSGML v1.0//EN
CALSCALE:GREGORIAN
METHOD:PUBLISH
X-WR-CALNAME:Deutscher Alpenverein Sektion Weilheim
X-ORIGINAL-URL:https://dav-weilheim.de
X-WR-CALDESC:Veranstaltungen für Deutscher Alpenverein Sektion Weilheim
REFRESH-INTERVAL;VALUE=DURATION:PT1H
X-Robots-Tag:noindex
X-PUBLISHED-TTL:PT1H
BEGIN:VTIMEZONE
TZID:Europe/Berlin
BEGIN:DAYLIGHT
TZOFFSETFROM:+0100
TZOFFSETTO:+0200
TZNAME:CEST
DTSTART:20230326T010000
END:DAYLIGHT
BEGIN:STANDARD
TZOFFSETFROM:+0200
TZOFFSETTO:+0100
TZNAME:CET
DTSTART:20231029T010000
END:STANDARD
BEGIN:DAYLIGHT
TZOFFSETFROM:+0100
TZOFFSETTO:+0200
TZNAME:CEST
DTSTART:20240331T010000
END:DAYLIGHT
BEGIN:STANDARD
TZOFFSETFROM:+0200
TZOFFSETTO:+0100
TZNAME:CET
DTSTART:20241027T010000
END:STANDARD
BEGIN:DAYLIGHT
TZOFFSETFROM:+0100
TZOFFSETTO:+0200
TZNAME:CEST
DTSTART:20250330T010000
END:DAYLIGHT
BEGIN:STANDARD
TZOFFSETFROM:+0200
TZOFFSETTO:+0100
TZNAME:CET
DTSTART:20251026T010000
END:STANDARD
END:VTIMEZONE
BEGIN:VEVENT
DTSTART;VALUE=DATE:20241205
DTEND;VALUE=DATE:20241209
DTSTAMP:20260423T141914
CREATED:20241026T170009Z
LAST-MODIFIED:20241026T170009Z
UID:10002960-1733356800-1733702399@dav-weilheim.de
SUMMARY:DAV-Stand am Weilheimer Weihnachtsmarkt
DESCRIPTION:Besucht uns am DAV-Stand beim Weihnachtsmarkt
URL:https://dav-weilheim.de/veranstaltung/dav-stand-am-weilheimer-weihnachtsmarkt/
ORGANIZER;CN="Karin Br%C3%BCderle":MAILTO:karin.bruederle@t-online.de
END:VEVENT
BEGIN:VEVENT
DTSTART;VALUE=DATE:20241207
DTEND;VALUE=DATE:20241209
DTSTAMP:20260423T141914
CREATED:20241026T170129Z
LAST-MODIFIED:20241026T180704Z
UID:10002961-1733529600-1733702399@dav-weilheim.de
SUMMARY:JDAV-JUGEND Kaseralmwochenende nähere Infos folgen
DESCRIPTION:
URL:https://dav-weilheim.de/veranstaltung/kaseralmwochenende-naehere-infos-folgen/
LOCATION:Kaseralm\, An der Glentleiten\, Ohlstadt\, 82439\, Deutschland
CATEGORIES:JDAV,JDAV Jugend
ORGANIZER;CN="Greta S%C3%BCberkr%C3%BCb":MAILTO:klettern@sueberkrueb.de
END:VEVENT
BEGIN:VEVENT
DTSTART;TZID=Europe/Berlin:20241208T080000
DTEND;TZID=Europe/Berlin:20241208T170000
DTSTAMP:20260423T141914
CREATED:20240213T130423Z
LAST-MODIFIED:20240802T185452Z
UID:10002942-1733644800-1733677200@dav-weilheim.de
SUMMARY:Klettern Inklusionsgruppe
DESCRIPTION:Der Klettertreff findet wieder regelmäßig statt\, entweder an einem Samstag oder einem Sonntag. \nJeweils circa 2 Wochen vor einem Termin werden wir alle bei uns registrierten Kinder/Familien anschreiben und abfragen\, wer dabei ist. \nDanach teilen wir Euch mit\, in welcher der 3 Gruppen Eure Kinder eingeteilt sind und ob es spezielle Hygienemaßnahmen gibt. \nDie Buchung in der Kletterhalle übernehmen wir. \nWir freuen uns auf Euch !!!!! \nRuth und Robert und unsere tollen Helfer.
URL:https://dav-weilheim.de/veranstaltung/klettern-inklusionsgruppe-24/2024-12-08/
LOCATION:Kletterhalle Weilheim\, Trifthofstraße 58\, Weilheim\, 82362\, Deutschland
CATEGORIES:Inklusive Klettergruppe
ORGANIZER;CN="Ruth Lorbacher":MAILTO:Ruth-Lorbacher@gmx.de
END:VEVENT
END:VCALENDAR