BEGIN:VCALENDAR
VERSION:2.0
PRODID:-//Deutscher Alpenverein Sektion Weilheim - ECPv6.15.20//NONSGML v1.0//EN
CALSCALE:GREGORIAN
METHOD:PUBLISH
X-WR-CALNAME:Deutscher Alpenverein Sektion Weilheim
X-ORIGINAL-URL:https://dav-weilheim.de
X-WR-CALDESC:Veranstaltungen für Deutscher Alpenverein Sektion Weilheim
REFRESH-INTERVAL;VALUE=DURATION:PT1H
X-Robots-Tag:noindex
X-PUBLISHED-TTL:PT1H
BEGIN:VTIMEZONE
TZID:Europe/Berlin
BEGIN:DAYLIGHT
TZOFFSETFROM:+0100
TZOFFSETTO:+0200
TZNAME:CEST
DTSTART:20230326T010000
END:DAYLIGHT
BEGIN:STANDARD
TZOFFSETFROM:+0200
TZOFFSETTO:+0100
TZNAME:CET
DTSTART:20231029T010000
END:STANDARD
BEGIN:DAYLIGHT
TZOFFSETFROM:+0100
TZOFFSETTO:+0200
TZNAME:CEST
DTSTART:20240331T010000
END:DAYLIGHT
BEGIN:STANDARD
TZOFFSETFROM:+0200
TZOFFSETTO:+0100
TZNAME:CET
DTSTART:20241027T010000
END:STANDARD
BEGIN:DAYLIGHT
TZOFFSETFROM:+0100
TZOFFSETTO:+0200
TZNAME:CEST
DTSTART:20250330T010000
END:DAYLIGHT
BEGIN:STANDARD
TZOFFSETFROM:+0200
TZOFFSETTO:+0100
TZNAME:CET
DTSTART:20251026T010000
END:STANDARD
END:VTIMEZONE
BEGIN:VEVENT
DTSTART;VALUE=DATE:20241220
DTEND;VALUE=DATE:20241223
DTSTAMP:20260423T135428
CREATED:20240927T192507Z
LAST-MODIFIED:20240927T192507Z
UID:10002953-1734652800-1734911999@dav-weilheim.de
SUMMARY:Freeridewochenende auf dem Stubaier Gletscher
DESCRIPTION:Tiefschnee-Training und Vorfreude auf die Skitourensaison \nErlebe ein tolles Freeridewochenende in den Bergen und bereite dich optimal auf die kommende Skitourensaison vor! Vom Freitag bis Sonntag vor Weihnachten dreht sich alles um das Erlernen und Festigen deiner Tiefschneetechnik. Egal\, ob du schon erste Erfahrungen im Powder hast oder deine Fähigkeiten verbessern möchtest – gemeinsam trainieren wir\, wie du sicher und mit Freude im Tiefschnee fährst.\n\nNeben dem technischen Training steht der Spaß am Freeriden im Mittelpunkt. Gemeinsam erkunden wir die Abfahrten abseits der Pisten\, genießen den hoffentlich frischen Schnee und lassen den Alltagsstress hinter uns. Das Freeridewochenende bietet zudem die perfekte Gelegenheit\, der vorweihnachtlichen Hektik zu entfliehen und entspannt in die Weihnachtszeit zu starten.\n\nProgramm:\nWir starten am Freitag Vormittag entweder öffentlich oder in Fahrgemeinschaften in Weilheim\, so dass wir pünktlich um 12 Uhr die 2\,5-Tages-Karte für das Gletscherskigebiet Stubai kaufen können. Wir bringen unser Gepäck auf die Dresdner Hütte (direkt an der Mittelstation der Stubaier Gletscherbahn) und genießen den Rest des Tages auf und neben der Piste. Als Tagesabschluss soll eine kurze Wiederholung der LVS Suche auf dem Plan stehen. Samstag und Sonntag gehören dann ganz dem Skifahren.\n\nIm Mittelpunkt stehen:\n– Techniktraining im Tiefschnee\n– Geführte Freeride-Abfahrten\n– Tipps und Tricks für mehr Sicherheit und Spaß im Gelände\n– Geselliges Beisammensein in der gemütlichen Unterkunft\n\nAnmeldung beim Tourenleiter Stephan Zellner unter Stephan.zellner@dav-weilheim.de
URL:https://dav-weilheim.de/veranstaltung/freeridewochenende-auf-dem-stubaier-gletscher/
CATEGORIES:Skitourengruppe
ORGANIZER;CN="Stephan Zellner":MAILTO:stephan.zellner@posteo.de
END:VEVENT
END:VCALENDAR