BEGIN:VCALENDAR
VERSION:2.0
PRODID:-//Deutscher Alpenverein Sektion Weilheim - ECPv6.15.20//NONSGML v1.0//EN
CALSCALE:GREGORIAN
METHOD:PUBLISH
X-WR-CALNAME:Deutscher Alpenverein Sektion Weilheim
X-ORIGINAL-URL:https://dav-weilheim.de
X-WR-CALDESC:Veranstaltungen für Deutscher Alpenverein Sektion Weilheim
REFRESH-INTERVAL;VALUE=DURATION:PT1H
X-Robots-Tag:noindex
X-PUBLISHED-TTL:PT1H
BEGIN:VTIMEZONE
TZID:Europe/Berlin
BEGIN:DAYLIGHT
TZOFFSETFROM:+0100
TZOFFSETTO:+0200
TZNAME:CEST
DTSTART:20240331T010000
END:DAYLIGHT
BEGIN:STANDARD
TZOFFSETFROM:+0200
TZOFFSETTO:+0100
TZNAME:CET
DTSTART:20241027T010000
END:STANDARD
BEGIN:DAYLIGHT
TZOFFSETFROM:+0100
TZOFFSETTO:+0200
TZNAME:CEST
DTSTART:20250330T010000
END:DAYLIGHT
BEGIN:STANDARD
TZOFFSETFROM:+0200
TZOFFSETTO:+0100
TZNAME:CET
DTSTART:20251026T010000
END:STANDARD
BEGIN:DAYLIGHT
TZOFFSETFROM:+0100
TZOFFSETTO:+0200
TZNAME:CEST
DTSTART:20260329T010000
END:DAYLIGHT
BEGIN:STANDARD
TZOFFSETFROM:+0200
TZOFFSETTO:+0100
TZNAME:CET
DTSTART:20261025T010000
END:STANDARD
END:VTIMEZONE
BEGIN:VEVENT
DTSTART;TZID=Europe/Berlin:20250115T163000
DTEND;TZID=Europe/Berlin:20250115T180000
DTSTAMP:20260423T155550
CREATED:20250113T081008Z
LAST-MODIFIED:20250113T081008Z
UID:10003130-1736958600-1736964000@dav-weilheim.de
SUMMARY:JDAV-Kinder Spaß am Gögerl
DESCRIPTION:Wenn Schnee liegt\, gerne Schlitten mitbringen (Helmpflicht!)
URL:https://dav-weilheim.de/veranstaltung/jdav-kinder-spass-am-goegerl/
LOCATION:Gögerl\, Am Gögerl 1\, Weilheim\, 82362\, Deutschland
CATEGORIES:JDAV Kinder,JDAVro
ORGANIZER;CN="Karin Br%C3%BCderle":MAILTO:karin.bruederle@t-online.de
END:VEVENT
BEGIN:VEVENT
DTSTART;TZID=Europe/Berlin:20250115T180000
DTEND;TZID=Europe/Berlin:20250115T193000
DTSTAMP:20260423T155550
CREATED:20250113T174048Z
LAST-MODIFIED:20250113T174048Z
UID:10003141-1736964000-1736969400@dav-weilheim.de
SUMMARY:JDAV-Jugend Gögerlrunde
DESCRIPTION:Wenn Schnee liegt\, gerne Schlitten mitbringen (Helmpflicht!)
URL:https://dav-weilheim.de/veranstaltung/jdav-jugend-goegerlrunde/
LOCATION:Gögerl\, Am Gögerl 1\, Weilheim\, 82362\, Deutschland
CATEGORIES:JDAV,JDAV Jugend
ORGANIZER;CN="Karin Br%C3%BCderle":MAILTO:karin.bruederle@t-online.de
END:VEVENT
END:VCALENDAR