BEGIN:VCALENDAR
VERSION:2.0
PRODID:-//Deutscher Alpenverein Sektion Weilheim - ECPv6.15.20//NONSGML v1.0//EN
CALSCALE:GREGORIAN
METHOD:PUBLISH
X-WR-CALNAME:Deutscher Alpenverein Sektion Weilheim
X-ORIGINAL-URL:https://dav-weilheim.de
X-WR-CALDESC:Veranstaltungen für Deutscher Alpenverein Sektion Weilheim
REFRESH-INTERVAL;VALUE=DURATION:PT1H
X-Robots-Tag:noindex
X-PUBLISHED-TTL:PT1H
BEGIN:VTIMEZONE
TZID:Europe/Berlin
BEGIN:DAYLIGHT
TZOFFSETFROM:+0100
TZOFFSETTO:+0200
TZNAME:CEST
DTSTART:20240331T010000
END:DAYLIGHT
BEGIN:STANDARD
TZOFFSETFROM:+0200
TZOFFSETTO:+0100
TZNAME:CET
DTSTART:20241027T010000
END:STANDARD
BEGIN:DAYLIGHT
TZOFFSETFROM:+0100
TZOFFSETTO:+0200
TZNAME:CEST
DTSTART:20250330T010000
END:DAYLIGHT
BEGIN:STANDARD
TZOFFSETFROM:+0200
TZOFFSETTO:+0100
TZNAME:CET
DTSTART:20251026T010000
END:STANDARD
BEGIN:DAYLIGHT
TZOFFSETFROM:+0100
TZOFFSETTO:+0200
TZNAME:CEST
DTSTART:20260329T010000
END:DAYLIGHT
BEGIN:STANDARD
TZOFFSETFROM:+0200
TZOFFSETTO:+0100
TZNAME:CET
DTSTART:20261025T010000
END:STANDARD
END:VTIMEZONE
BEGIN:VEVENT
DTSTART;VALUE=DATE:20250118
DTEND;VALUE=DATE:20250119
DTSTAMP:20260423T170415
CREATED:20241201T152841Z
LAST-MODIFIED:20241201T152841Z
UID:10002977-1737158400-1737244799@dav-weilheim.de
SUMMARY:Ein Tag im Schnee (Ski und Rodel)\, Steckenberglifte\, Ammergauer Alpen
DESCRIPTION:Gemeinsam möchten wir einen Tag im Schnee verbringen. Der Steckenberg ist ein tolles Anfänger-Skigebiet. Es gibt einen Seillift mit sehr flacher Piste für erste Skiversuche\, außerdem Tellerlifte und Ankerlifte mit unterschiedlich schweren Pisten für Kinder und Erwachsene. Der (relativ steile) Rodelberg liegt direkt daneben. Somit kommen auch nicht Skifahrer ganz auf Ihre Kosten.\nVor Ort gibt es einen Skiverleih. Wer Lust hat\, kann zum Abschluss entweder schon eigenständig oder mit Unterstützung von Mama/Papa am Abschlussrennen teilnehmen. \nUm uns aufzuwärmen\, möchten wir mittags gemeinsam auf der Steckenbergalm essen. Die Alm liegt direkt am Parkplatz im Tal und ist so für alle jederzeit erreichbar.
URL:https://dav-weilheim.de/veranstaltung/ein-tag-im-schnee-ski-und-rodel-steckenberglifte-ammergauer-alpen/
CATEGORIES:Familiengruppe Die Wanderwölfe
ORGANIZER;CN="Tatiana Morlock":MAILTO:zwergaufzwergab@dav-weilheim.de
END:VEVENT
BEGIN:VEVENT
DTSTART;TZID=Europe/Berlin:20250118T090000
DTEND;TZID=Europe/Berlin:20250118T090000
DTSTAMP:20260423T170415
CREATED:20241201T152841Z
LAST-MODIFIED:20250116T205914Z
UID:10002978-1737190800-1737190800@dav-weilheim.de
SUMMARY:LVS Workshop am Kreuzeck mit “DIE BERGFÜHRER” aus Ohlstadt
DESCRIPTION:Es ist noch kurzfristig ein Platz freigeworden – bitte rasch anmelden!\nErst Theorieunterricht zum richtigen Verhalten bei einem Lawinenunfall\, Erlernen der verschiedenen Suchstrategien. Kennenlernen der Notfallausrüstung und den Umgang damit\,\nspeziell mit modernen Drei-Antennen-Geräten\, werden genauestens erklärt\nund demonstriert.\nSpäter geht es an das praktische Umsetzen und Üben auf dem Lawinenfeld.\nAm Nachmittag nach einer Kaffeepause/Mittagspause werden die Ausbildungsabschnitte reflektiert.\nAnschließend wird die Funktion und die Auslösung eines Lawinenrucksackes gezeigt und zum Schluss werden noch Trainingszertifikate des VDBS an die Teilnehmer überreicht.
URL:https://dav-weilheim.de/veranstaltung/lvs-workshop-am-kreuzeck-mit-die-bergfuehrer-aus-ohlstadt/
CATEGORIES:Ausbildung
END:VEVENT
END:VCALENDAR