BEGIN:VCALENDAR
VERSION:2.0
PRODID:-//Deutscher Alpenverein Sektion Weilheim - ECPv6.15.20//NONSGML v1.0//EN
CALSCALE:GREGORIAN
METHOD:PUBLISH
X-ORIGINAL-URL:https://dav-weilheim.de
X-WR-CALDESC:Veranstaltungen für Deutscher Alpenverein Sektion Weilheim
REFRESH-INTERVAL;VALUE=DURATION:PT1H
X-Robots-Tag:noindex
X-PUBLISHED-TTL:PT1H
BEGIN:VTIMEZONE
TZID:Europe/Berlin
BEGIN:DAYLIGHT
TZOFFSETFROM:+0100
TZOFFSETTO:+0200
TZNAME:CEST
DTSTART:20240331T010000
END:DAYLIGHT
BEGIN:STANDARD
TZOFFSETFROM:+0200
TZOFFSETTO:+0100
TZNAME:CET
DTSTART:20241027T010000
END:STANDARD
BEGIN:DAYLIGHT
TZOFFSETFROM:+0100
TZOFFSETTO:+0200
TZNAME:CEST
DTSTART:20250330T010000
END:DAYLIGHT
BEGIN:STANDARD
TZOFFSETFROM:+0200
TZOFFSETTO:+0100
TZNAME:CET
DTSTART:20251026T010000
END:STANDARD
BEGIN:DAYLIGHT
TZOFFSETFROM:+0100
TZOFFSETTO:+0200
TZNAME:CEST
DTSTART:20260329T010000
END:DAYLIGHT
BEGIN:STANDARD
TZOFFSETFROM:+0200
TZOFFSETTO:+0100
TZNAME:CET
DTSTART:20261025T010000
END:STANDARD
END:VTIMEZONE
BEGIN:VEVENT
DTSTART;TZID=Europe/Berlin:20250129T163000
DTEND;TZID=Europe/Berlin:20250129T180000
DTSTAMP:20260423T155739
CREATED:20250113T081351Z
LAST-MODIFIED:20250113T081351Z
UID:10003132-1738168200-1738173600@dav-weilheim.de
SUMMARY:JDAV-Kinder Klettern
DESCRIPTION:5\,– Euro\, Getränk und Socken mitbringen
URL:https://dav-weilheim.de/veranstaltung/jdav-kinder-klettern-15/
LOCATION:Kletterhalle Weilheim\, Trifthofstraße 58\, Weilheim\, 82362\, Deutschland
CATEGORIES:JDAV,JDAV Kinder
ORGANIZER;CN="Karin Br%C3%BCderle":MAILTO:karin.bruederle@t-online.de
END:VEVENT
BEGIN:VEVENT
DTSTART;TZID=Europe/Berlin:20250129T180000
DTEND;TZID=Europe/Berlin:20250129T200000
DTSTAMP:20260423T155739
CREATED:20250113T174325Z
LAST-MODIFIED:20250113T174325Z
UID:10003143-1738173600-1738180800@dav-weilheim.de
SUMMARY:JDAV-Jugend Klettern
DESCRIPTION:6\,– Euro mitbringen
URL:https://dav-weilheim.de/veranstaltung/jdav-jugend-klettern-16/
LOCATION:Kletterhalle Weilheim\, Trifthofstraße 58\, Weilheim\, 82362\, Deutschland
CATEGORIES:JDAV,JDAV Jugend
ORGANIZER;CN="Karin Br%C3%BCderle":MAILTO:karin.bruederle@t-online.de
END:VEVENT
END:VCALENDAR