BEGIN:VCALENDAR
VERSION:2.0
PRODID:-//Deutscher Alpenverein Sektion Weilheim - ECPv6.15.20//NONSGML v1.0//EN
CALSCALE:GREGORIAN
METHOD:PUBLISH
X-WR-CALNAME:Deutscher Alpenverein Sektion Weilheim
X-ORIGINAL-URL:https://dav-weilheim.de
X-WR-CALDESC:Veranstaltungen für Deutscher Alpenverein Sektion Weilheim
REFRESH-INTERVAL;VALUE=DURATION:PT1H
X-Robots-Tag:noindex
X-PUBLISHED-TTL:PT1H
BEGIN:VTIMEZONE
TZID:Europe/Berlin
BEGIN:DAYLIGHT
TZOFFSETFROM:+0100
TZOFFSETTO:+0200
TZNAME:CEST
DTSTART:20240331T010000
END:DAYLIGHT
BEGIN:STANDARD
TZOFFSETFROM:+0200
TZOFFSETTO:+0100
TZNAME:CET
DTSTART:20241027T010000
END:STANDARD
BEGIN:DAYLIGHT
TZOFFSETFROM:+0100
TZOFFSETTO:+0200
TZNAME:CEST
DTSTART:20250330T010000
END:DAYLIGHT
BEGIN:STANDARD
TZOFFSETFROM:+0200
TZOFFSETTO:+0100
TZNAME:CET
DTSTART:20251026T010000
END:STANDARD
BEGIN:DAYLIGHT
TZOFFSETFROM:+0100
TZOFFSETTO:+0200
TZNAME:CEST
DTSTART:20260329T010000
END:DAYLIGHT
BEGIN:STANDARD
TZOFFSETFROM:+0200
TZOFFSETTO:+0100
TZNAME:CET
DTSTART:20261025T010000
END:STANDARD
END:VTIMEZONE
BEGIN:VEVENT
DTSTART;TZID=Europe/Berlin:20250219T163000
DTEND;TZID=Europe/Berlin:20250219T180000
DTSTAMP:20260423T170531
CREATED:20250113T081824Z
LAST-MODIFIED:20250113T081824Z
UID:10003135-1739982600-1739988000@dav-weilheim.de
SUMMARY:JDAV-Kinder Fasching
DESCRIPTION:Wer mag\, darf gerne maskiert kommen
URL:https://dav-weilheim.de/veranstaltung/jdav-kinder-fasching/
LOCATION:Talhütte\, Sektionshaus\, Hofstraße 17\, Weilheim\, 82362\, Deutschland
CATEGORIES:JDAV,JDAV Kinder
ORGANIZER;CN="Karin Br%C3%BCderle":MAILTO:karin.bruederle@t-online.de
END:VEVENT
BEGIN:VEVENT
DTSTART;TZID=Europe/Berlin:20250219T180000
DTEND;TZID=Europe/Berlin:20250219T193000
DTSTAMP:20260423T170531
CREATED:20250113T174704Z
LAST-MODIFIED:20250113T174704Z
UID:10003146-1739988000-1739993400@dav-weilheim.de
SUMMARY:JDAV-Jugend Faschings-Pizza
DESCRIPTION:Wer mag\, kann gerne maskiert kommen
URL:https://dav-weilheim.de/veranstaltung/jdav-jugend-faschings-pizza/
LOCATION:Talhütte\, Sektionshaus\, Hofstraße 17\, Weilheim\, 82362\, Deutschland
CATEGORIES:JDAV,JDAV Jugend
ORGANIZER;CN="Karin Br%C3%BCderle":MAILTO:karin.bruederle@t-online.de
END:VEVENT
END:VCALENDAR