BEGIN:VCALENDAR
VERSION:2.0
PRODID:-//Deutscher Alpenverein Sektion Weilheim - ECPv6.15.20//NONSGML v1.0//EN
CALSCALE:GREGORIAN
METHOD:PUBLISH
X-ORIGINAL-URL:https://dav-weilheim.de
X-WR-CALDESC:Veranstaltungen für Deutscher Alpenverein Sektion Weilheim
REFRESH-INTERVAL;VALUE=DURATION:PT1H
X-Robots-Tag:noindex
X-PUBLISHED-TTL:PT1H
BEGIN:VTIMEZONE
TZID:Europe/Berlin
BEGIN:DAYLIGHT
TZOFFSETFROM:+0100
TZOFFSETTO:+0200
TZNAME:CEST
DTSTART:20240331T010000
END:DAYLIGHT
BEGIN:STANDARD
TZOFFSETFROM:+0200
TZOFFSETTO:+0100
TZNAME:CET
DTSTART:20241027T010000
END:STANDARD
BEGIN:DAYLIGHT
TZOFFSETFROM:+0100
TZOFFSETTO:+0200
TZNAME:CEST
DTSTART:20250330T010000
END:DAYLIGHT
BEGIN:STANDARD
TZOFFSETFROM:+0200
TZOFFSETTO:+0100
TZNAME:CET
DTSTART:20251026T010000
END:STANDARD
BEGIN:DAYLIGHT
TZOFFSETFROM:+0100
TZOFFSETTO:+0200
TZNAME:CEST
DTSTART:20260329T010000
END:DAYLIGHT
BEGIN:STANDARD
TZOFFSETFROM:+0200
TZOFFSETTO:+0100
TZNAME:CET
DTSTART:20261025T010000
END:STANDARD
END:VTIMEZONE
BEGIN:VEVENT
DTSTART;VALUE=DATE:20250221
DTEND;VALUE=DATE:20250224
DTSTAMP:20260423T171004
CREATED:20241201T152918Z
LAST-MODIFIED:20241201T152918Z
UID:10002994-1740096000-1740355199@dav-weilheim.de
SUMMARY:Mensch & Umwelt - Entscheiden im winterlichen Gebirge
DESCRIPTION:Dieses Jahr fahren wir für unser Entscheidungstraining in die Schweiz. Das Gasthaus Bellawiese  in St. Antönien wird für drei Tage unser Stützpunkt sein (Lager und HP 90ChF/ Nacht www.bellawiese.ch). Und die umliegenden Berge des Prätigau bieten uns eine große Auswahl an unterschiedlichen Tourenmöglichkeiten (z.B. Saaser Calanda 2584 m\, Hasenflüeli 2411 m oder Schafberg 2456 m). Bei diesem Ausbildungs-Wochenende liegt ein Schwerpunkt neben der Lawinenkunde auf dem Faktor Mensch. Ihr steigt selbst voll mit in die Tourenplanung ein und übt Euch im “verantwortlichen Vorangehen”.\nGemeinsam analysieren wir die Verhältnisse\, Wetteraussichten und Lawinensituation. Auf dieser Basis entscheiden wir über die jeweiligen Tagesziele und planen die Touren. Anschließend schlüpft Ihr abwechselnd in die Führungsrolle. Die einzelnen Abschnitte besprechen wir dann jeweils im Hinblick auf die getroffenen Entscheidungen\, das Führungsverhalten und die Gruppendynamik nach. Außerdem werden die Touren durch kleine Impuls- Vorträge von Euch Teilnehmern ergänzt.\nCa. 2 Wochen vorher treffen wir uns in der Talhütte in Weilheim zum ersten Kennenlernen\, um Organisatorisches zu besprechen und zur Vergabe der Themen für die Teilnehmerbeiträge.
URL:https://dav-weilheim.de/veranstaltung/mensch-umwelt-entscheiden-im-winterlichen-gebirge/
CATEGORIES:Ausbildung,Skitourengruppe
ORGANIZER;CN="Michij.. Kugelmann":MAILTO:michij.kugelmann@dav-weilheim.de
END:VEVENT
END:VCALENDAR