BEGIN:VCALENDAR
VERSION:2.0
PRODID:-//Deutscher Alpenverein Sektion Weilheim - ECPv6.15.20//NONSGML v1.0//EN
CALSCALE:GREGORIAN
METHOD:PUBLISH
X-WR-CALNAME:Deutscher Alpenverein Sektion Weilheim
X-ORIGINAL-URL:https://dav-weilheim.de
X-WR-CALDESC:Veranstaltungen für Deutscher Alpenverein Sektion Weilheim
REFRESH-INTERVAL;VALUE=DURATION:PT1H
X-Robots-Tag:noindex
X-PUBLISHED-TTL:PT1H
BEGIN:VTIMEZONE
TZID:Europe/Berlin
BEGIN:DAYLIGHT
TZOFFSETFROM:+0100
TZOFFSETTO:+0200
TZNAME:CEST
DTSTART:20230326T010000
END:DAYLIGHT
BEGIN:STANDARD
TZOFFSETFROM:+0200
TZOFFSETTO:+0100
TZNAME:CET
DTSTART:20231029T010000
END:STANDARD
BEGIN:DAYLIGHT
TZOFFSETFROM:+0100
TZOFFSETTO:+0200
TZNAME:CEST
DTSTART:20240331T010000
END:DAYLIGHT
BEGIN:STANDARD
TZOFFSETFROM:+0200
TZOFFSETTO:+0100
TZNAME:CET
DTSTART:20241027T010000
END:STANDARD
BEGIN:DAYLIGHT
TZOFFSETFROM:+0100
TZOFFSETTO:+0200
TZNAME:CEST
DTSTART:20250330T010000
END:DAYLIGHT
BEGIN:STANDARD
TZOFFSETFROM:+0200
TZOFFSETTO:+0100
TZNAME:CET
DTSTART:20251026T010000
END:STANDARD
END:VTIMEZONE
BEGIN:VEVENT
DTSTART;TZID=Europe/Berlin:20241104T190000
DTEND;TZID=Europe/Berlin:20241104T210000
DTSTAMP:20260423T142010
CREATED:20231219T085342Z
LAST-MODIFIED:20240802T190115Z
UID:10002947-1730746800-1730754000@dav-weilheim.de
SUMMARY:Klettertreff
DESCRIPTION:Du hast aktuell keine*n Kletterpartner*in\, fühlst dich nach längerer Kletterpause oder einem ersten Kletterkurs noch nicht sicher genug um alleine klettern zu gehen oder magst einfach die Gesellschaft und den Austausch: Dann bist Du bei unserem Klettertreff in der Kletterhalle Weilheim genau richtig! \nBetreuer*innen stehen bei Fragen zur Verfügung. Ansonsten findet hier jeder einen Kletterpartner*in. Teilnehmen können alle ab 16 Jahren\, die mindestens Toprope-Klettern und sichern können. Solltest Du diese Voraussetzungen nicht erfüllen\, dann wende dich bitte an uns. Auch hierfür wird sich eine Lösung finden. \nEinmal im Monat bieten wir Euch spezielle Themen rund um das Klettertraining an.
URL:https://dav-weilheim.de/veranstaltung/klettertreff-81/2024-11-04/
LOCATION:Kletterhalle Weilheim\, Trifthofstraße 58\, Weilheim\, 82362\, Deutschland
CATEGORIES:Klettertreff
ORGANIZER;CN="Ruth Lorbacher":MAILTO:Ruth-Lorbacher@gmx.de
END:VEVENT
BEGIN:VEVENT
DTSTART;TZID=Europe/Berlin:20241106T163000
DTEND;TZID=Europe/Berlin:20241106T180000
DTSTAMP:20260423T142010
CREATED:20241026T181220Z
LAST-MODIFIED:20241026T181220Z
UID:10002965-1730910600-1730916000@dav-weilheim.de
SUMMARY:JDAV-KINDER Runde durchs Gögerl
DESCRIPTION:Nebenbei sammeln wir Naturmaterialien zum Basteln\, gerne könnt ihr einen Beutel für die “Fundstücke” mitbringen
URL:https://dav-weilheim.de/veranstaltung/jdav-kinder-runde-durchs-goegerl/
LOCATION:Gögerl\, Am Gögerl 1\, Weilheim\, 82362\, Deutschland
CATEGORIES:JDAV,JDAV Kinder
ORGANIZER;CN="Karin Br%C3%BCderle":MAILTO:karin.bruederle@t-online.de
END:VEVENT
BEGIN:VEVENT
DTSTART;TZID=Europe/Berlin:20241106T180000
DTEND;TZID=Europe/Berlin:20241106T193000
DTSTAMP:20260423T142010
CREATED:20241026T164503Z
LAST-MODIFIED:20241026T180037Z
UID:10002954-1730916000-1730921400@dav-weilheim.de
SUMMARY:JDAV-JUGEND Gruppenstunde entfällt
DESCRIPTION:
URL:https://dav-weilheim.de/veranstaltung/gruppenstunde-entfaellt/
CATEGORIES:JDAV,JDAV Jugend
ORGANIZER;CN="Greta S%C3%BCberkr%C3%BCb":MAILTO:klettern@sueberkrueb.de
END:VEVENT
BEGIN:VEVENT
DTSTART;VALUE=DATE:20241107
DTEND;VALUE=DATE:20241108
DTSTAMP:20260423T142010
CREATED:20231119T121959Z
LAST-MODIFIED:20231119T121959Z
UID:10002818-1730937600-1731023999@dav-weilheim.de
SUMMARY:Wanderug auf den Hohen Peißenberg (988 m)\, Pfaffenwinkel
DESCRIPTION:Der Rundweg führt von Peißenberg\, Bad Sulz über den Ostrücken zur Wallfahrtskirche. Der Abstieg erfolgt über Vorderschwaig und den Mittelstollen. Der Abstieg ist teilweise sehr steil.Es besteht eine Einkehrmöglichkeit im Terassencafe bei der Kirche.
URL:https://dav-weilheim.de/veranstaltung/wanderug-auf-den-hohen-peissenberg-988-m-pfaffenwinkel/
CATEGORIES:Seniorengruppe
END:VEVENT
BEGIN:VEVENT
DTSTART;VALUE=DATE:20241109
DTEND;VALUE=DATE:20241110
DTSTAMP:20260423T142010
CREATED:20231119T122000Z
LAST-MODIFIED:20240529T140859Z
UID:10002819-1731110400-1731196799@dav-weilheim.de
SUMMARY:Herbstwanderung aufs Grasköpfl (1753m)/ Karwendel
DESCRIPTION:Unser Wanderweg verläuft zunächst durch den Wald\, zum Schluss südseitig über Wiesen auf den schönen\, in der Regel eher weniger überlaufenen Aussichtsgipfel des Grasköpfls. Im Anschluss an die Tour möchten wir am nahegelegenen Grillplatz noch gemeinsam Stockbrot grillen.
URL:https://dav-weilheim.de/veranstaltung/herbstwanderung-aufs-graskoepfl-1753m-karwendel/
CATEGORIES:Familiengruppe Bergfüchse
ORGANIZER;CN="Andrea Kunkel":MAILTO:andrea.kunkel@dav-weilheim.de
END:VEVENT
BEGIN:VEVENT
DTSTART;VALUE=DATE:20241110
DTEND;VALUE=DATE:20241111
DTSTAMP:20260423T142010
CREATED:20231119T122012Z
LAST-MODIFIED:20231119T122012Z
UID:10002820-1731196800-1731283199@dav-weilheim.de
SUMMARY:Wanderung zum Riederstein (1207 m)\, Mangfallgebirge
DESCRIPTION:Leichte Wanderung. Nur der letzte Anstieg zum Riederstein ist etwas steil.
URL:https://dav-weilheim.de/veranstaltung/wanderung-zum-riederstein-1207-m-mangfallgebirge/
CATEGORIES:Bergtourengruppe
ORGANIZER;CN="Markus Hohmann":MAILTO:hohmann-markus@t-online.de
END:VEVENT
BEGIN:VEVENT
DTSTART;TZID=Europe/Berlin:20241110T080000
DTEND;TZID=Europe/Berlin:20241110T170000
DTSTAMP:20260423T142010
CREATED:20240213T130423Z
LAST-MODIFIED:20240802T185452Z
UID:10002941-1731225600-1731258000@dav-weilheim.de
SUMMARY:Klettern Inklusionsgruppe
DESCRIPTION:Der Klettertreff findet wieder regelmäßig statt\, entweder an einem Samstag oder einem Sonntag. \nJeweils circa 2 Wochen vor einem Termin werden wir alle bei uns registrierten Kinder/Familien anschreiben und abfragen\, wer dabei ist. \nDanach teilen wir Euch mit\, in welcher der 3 Gruppen Eure Kinder eingeteilt sind und ob es spezielle Hygienemaßnahmen gibt. \nDie Buchung in der Kletterhalle übernehmen wir. \nWir freuen uns auf Euch !!!!! \nRuth und Robert und unsere tollen Helfer.
URL:https://dav-weilheim.de/veranstaltung/klettern-inklusionsgruppe-24/2024-11-10/
LOCATION:Kletterhalle Weilheim\, Trifthofstraße 58\, Weilheim\, 82362\, Deutschland
CATEGORIES:Inklusive Klettergruppe
ORGANIZER;CN="Ruth Lorbacher":MAILTO:Ruth-Lorbacher@gmx.de
END:VEVENT
BEGIN:VEVENT
DTSTART;TZID=Europe/Berlin:20241113T163000
DTEND;TZID=Europe/Berlin:20241113T180000
DTSTAMP:20260423T142010
CREATED:20241026T181347Z
LAST-MODIFIED:20241026T181347Z
UID:10002966-1731515400-1731520800@dav-weilheim.de
SUMMARY:JDAV-KINDER Klettern (5\,-- Euro Eintritt)
DESCRIPTION:denkt an Socken und Getränk
URL:https://dav-weilheim.de/veranstaltung/jdav-kinder-klettern-5-euro-eintritt/
LOCATION:Kletterhalle Weilheim\, Trifthofstraße 58\, Weilheim\, 82362\, Deutschland
CATEGORIES:JDAV,JDAV Kinder
ORGANIZER;CN="Karin Br%C3%BCderle":MAILTO:karin.bruederle@t-online.de
END:VEVENT
BEGIN:VEVENT
DTSTART;TZID=Europe/Berlin:20241113T180000
DTEND;TZID=Europe/Berlin:20241113T200000
DTSTAMP:20260423T142010
CREATED:20241026T164751Z
LAST-MODIFIED:20241026T180133Z
UID:10002955-1731520800-1731528000@dav-weilheim.de
SUMMARY:JDAV-JUGEND Klettern (6\,-- Euro Eintritt)
DESCRIPTION:
URL:https://dav-weilheim.de/veranstaltung/klettern-6-euro-eintritt/
LOCATION:Kletterhalle Weilheim\, Trifthofstraße 58\, Weilheim\, 82362\, Deutschland
CATEGORIES:JDAV,JDAV Jugend
ORGANIZER;CN="Greta S%C3%BCberkr%C3%BCb":MAILTO:klettern@sueberkrueb.de
END:VEVENT
BEGIN:VEVENT
DTSTART;VALUE=DATE:20241114
DTEND;VALUE=DATE:20241115
DTSTAMP:20260423T142010
CREATED:20231119T122012Z
LAST-MODIFIED:20241109T144102Z
UID:10002821-1731542400-1731628799@dav-weilheim.de
SUMMARY:ABGESAGT - Kombitour: Radfahren und Wanderung
DESCRIPTION:Abgesagt wegen Krankheit \nmit dem Rad von Weilheim über Hungerwies nach Paterzell-Abstellen der Räder-weiter zu Fuß auf Schleichwegen auf die Hangkante in Forst – Abstieg in den Eibenwald – Einkehr im Gasthaus zu Eibenwald – Rückkehr nach Weilheim mit dem Rad
URL:https://dav-weilheim.de/veranstaltung/kombitour-radfahren-und-wanderung/
CATEGORIES:Seniorengruppe
ORGANIZER;CN="Eugen Winter":MAILTO:berg-senioren.av.weilheim@mail.de
END:VEVENT
BEGIN:VEVENT
DTSTART;VALUE=DATE:20241116
DTEND;VALUE=DATE:20241117
DTSTAMP:20260423T142010
CREATED:20231119T122013Z
LAST-MODIFIED:20240529T141019Z
UID:10002822-1731715200-1731801599@dav-weilheim.de
SUMMARY:Drachenwanderung auf den Hohenpeißenberg (988 m)\, Pfaffenwinkel
DESCRIPTION:Wir wandern mit unseren Drachen im Gepäck von Hetten auf den Hohenpeißenberg. Bei Wind lassen wir oben die Drachen steigen\, wenn der Wind fehlt\, werfen wir einen Blick auf die älteste Bergwetterstation der Welt und lernen auf dem Bergwetterweg vielleicht etwas über die Entstehung des fehlenden Windes 😉. Nach dem Abstieg möchten wir am Badesee Hohenpeißenberg noch gemeinsam Feuer machen und Stockbrot grillen.
URL:https://dav-weilheim.de/veranstaltung/drachenwanderung-auf-den-hohenpeissenberg-988-m-pfaffenwinkel/
CATEGORIES:Familiengruppe Die Wanderwölfe
ORGANIZER;CN="Tatiana Morlock":MAILTO:zwergaufzwergab@dav-weilheim.de
END:VEVENT
BEGIN:VEVENT
DTSTART;TZID=Europe/Berlin:20241118T190000
DTEND;TZID=Europe/Berlin:20241118T210000
DTSTAMP:20260423T142011
CREATED:20231219T085342Z
LAST-MODIFIED:20240802T190115Z
UID:10002948-1731956400-1731963600@dav-weilheim.de
SUMMARY:Klettertreff
DESCRIPTION:Du hast aktuell keine*n Kletterpartner*in\, fühlst dich nach längerer Kletterpause oder einem ersten Kletterkurs noch nicht sicher genug um alleine klettern zu gehen oder magst einfach die Gesellschaft und den Austausch: Dann bist Du bei unserem Klettertreff in der Kletterhalle Weilheim genau richtig! \nBetreuer*innen stehen bei Fragen zur Verfügung. Ansonsten findet hier jeder einen Kletterpartner*in. Teilnehmen können alle ab 16 Jahren\, die mindestens Toprope-Klettern und sichern können. Solltest Du diese Voraussetzungen nicht erfüllen\, dann wende dich bitte an uns. Auch hierfür wird sich eine Lösung finden. \nEinmal im Monat bieten wir Euch spezielle Themen rund um das Klettertraining an.
URL:https://dav-weilheim.de/veranstaltung/klettertreff-81/2024-11-18/
LOCATION:Kletterhalle Weilheim\, Trifthofstraße 58\, Weilheim\, 82362\, Deutschland
CATEGORIES:Klettertreff
ORGANIZER;CN="Ruth Lorbacher":MAILTO:Ruth-Lorbacher@gmx.de
END:VEVENT
BEGIN:VEVENT
DTSTART;VALUE=DATE:20241120
DTEND;VALUE=DATE:20241121
DTSTAMP:20260423T142011
CREATED:20241026T164927Z
LAST-MODIFIED:20241026T180247Z
UID:10002956-1732060800-1732147199@dav-weilheim.de
SUMMARY:JDAV-Überraschungsaktion (nähere Infos folgen)
DESCRIPTION:
URL:https://dav-weilheim.de/veranstaltung/ueberraschungsaktion-naehere-infos-folgen/
CATEGORIES:Geckos,JDAV,JDAV Jugend,JDAV Kinder
ORGANIZER;CN="Karin Br%C3%BCderle":MAILTO:karin.bruederle@t-online.de
END:VEVENT
BEGIN:VEVENT
DTSTART;VALUE=DATE:20241121
DTEND;VALUE=DATE:20241122
DTSTAMP:20260423T142011
CREATED:20231119T122013Z
LAST-MODIFIED:20231119T122013Z
UID:10002823-1732147200-1732233599@dav-weilheim.de
SUMMARY:Soiersee-Runde
DESCRIPTION:Der Weg Führt von Bad Kohlgrub zum Soiersee\, auch Bayersoiener See\, zur Kapelle “Maria fängt Feuer”. Zurück geht es über Wiesen und durchs Filz. Ein kurzes Vergnügen bereitet eine Blechrutsche .
URL:https://dav-weilheim.de/veranstaltung/soiersee-runde/
CATEGORIES:Seniorengruppe
END:VEVENT
BEGIN:VEVENT
DTSTART;VALUE=DATE:20241124
DTEND;VALUE=DATE:20241125
DTSTAMP:20260423T142011
CREATED:20241026T165305Z
LAST-MODIFIED:20241026T165305Z
UID:10002957-1732406400-1732492799@dav-weilheim.de
SUMMARY:JDAV-Tagestour zur Hüttlebachklamm (Anmeldeschluss 20.11.)
DESCRIPTION:
URL:https://dav-weilheim.de/veranstaltung/jdav-tagestour-zur-huettlebachklamm-anmeldeschluss-20-11/
CATEGORIES:Geckos,JDAV,JDAV Jugend,JDAV Kinder
END:VEVENT
BEGIN:VEVENT
DTSTART;TZID=Europe/Berlin:20241126T193000
DTEND;TZID=Europe/Berlin:20241126T213000
DTSTAMP:20260423T142011
CREATED:20231119T122014Z
LAST-MODIFIED:20241103T162005Z
UID:10002824-1732649400-1732656600@dav-weilheim.de
SUMMARY:Theorie und Praxis Lawinenverschüttetensuche LVS-Crashkurs (Theorie)
DESCRIPTION:Die Veranstaltung ist leider voll – es gibt keine freien Plätze mehr – wir verweisen auf den LVS-Workshop am 18.01.25 am Kreuzeck! \nVortrag bzw. Chashkurs über das Verhalten bei einem Lawinenunfall\, Einblick in die Suchstrategien und Umgang bzw. das Kennenlernen der Standard-Notfallausrüstung\, speziell mit modernen Drei-Antennen-Geräten
URL:https://dav-weilheim.de/veranstaltung/theorie-und-praxis-lawinenverschuettetensuche-lvs-crashkurs-theorie-3/
CATEGORIES:Ausbildung,Skitourengruppe
ORGANIZER;CN="Andreas Richter":MAILTO:andreas.richter@dav-weilheim.de
END:VEVENT
BEGIN:VEVENT
DTSTART;TZID=Europe/Berlin:20241127T163000
DTEND;TZID=Europe/Berlin:20241127T180000
DTSTAMP:20260423T142011
CREATED:20241026T181614Z
LAST-MODIFIED:20241026T181614Z
UID:10002967-1732725000-1732730400@dav-weilheim.de
SUMMARY:JDAV-KINDER Adventskranz binden
DESCRIPTION:wer mag\, kann gerne Grünzeug und Kranzrohling mitbringen
URL:https://dav-weilheim.de/veranstaltung/jdav-kinder-adventskranz-binden/
LOCATION:Talhütte\, Sektionshaus\, Hofstraße 17\, Weilheim\, 82362\, Deutschland
CATEGORIES:JDAV,JDAV Kinder
ORGANIZER;CN="Karin Br%C3%BCderle":MAILTO:karin.bruederle@t-online.de
END:VEVENT
BEGIN:VEVENT
DTSTART;TZID=Europe/Berlin:20241127T180000
DTEND;TZID=Europe/Berlin:20241127T193000
DTSTAMP:20260423T142011
CREATED:20241026T165436Z
LAST-MODIFIED:20241026T180355Z
UID:10002958-1732730400-1732735800@dav-weilheim.de
SUMMARY:JDAV-JUGEND Adventskranz binden (wer hat\, kann gerne Grünzeug und Kranzrohling mitbringen)
DESCRIPTION:
URL:https://dav-weilheim.de/veranstaltung/adventskranz-binden-wer-hat-kann-gerne-gruenzeug-und-kranzrohling-mitbringen/
LOCATION:Talhütte\, Sektionshaus\, Hofstraße 17\, Weilheim\, 82362\, Deutschland
CATEGORIES:JDAV,JDAV Jugend
ORGANIZER;CN="Karin Br%C3%BCderle":MAILTO:karin.bruederle@t-online.de
END:VEVENT
BEGIN:VEVENT
DTSTART;VALUE=DATE:20241128
DTEND;VALUE=DATE:20241129
DTSTAMP:20260423T142011
CREATED:20231119T122026Z
LAST-MODIFIED:20231119T122026Z
UID:10002825-1732752000-1732838399@dav-weilheim.de
SUMMARY:Tourenabschluss der Seniorengruppe
DESCRIPTION:gemütliches Beisammensein zum Tourenabschluss bei der Pollinger Weinbruderschaft
URL:https://dav-weilheim.de/veranstaltung/tourenabschluss-der-seniorengruppe/
CATEGORIES:Seniorengruppe
END:VEVENT
BEGIN:VEVENT
DTSTART;TZID=Europe/Berlin:20241128T180000
DTEND;TZID=Europe/Berlin:20241128T203000
DTSTAMP:20260423T142011
CREATED:20231119T122027Z
LAST-MODIFIED:20241103T162200Z
UID:10002826-1732816800-1732825800@dav-weilheim.de
SUMMARY:Theorie und Praxis Lawinenverschüttetensuche LVS-Crashkurs (Praxis)
DESCRIPTION:Die Veranstaltung ist leider voll – es gibt keine freien Plätze mehr – wir verweisen auf den LVS-Workshop am 18.01.25 am Kreuzeck! \nWir haben am Vorabend gelernt\, wie die Geräte theoretisch funtionieren. Nun werden wir uns zuerst damit auseinandersetzen\, wie man ein LVS-Gerät richtig bedient (Ein-\, Aus- und Umschalten). Des Weiteren werden wir Suchübungen praktizieren in den drei Suchphasen: 1. Signalsuche bzw. Signalanalyse\, 2. Grobsuche und 3. die Feinsuche. Es handelt sich hierbei nur um eine “Trockenübung”\, da wir wahrscheinlich zu dem Zeitpunkt noch keinen Schnee zum “Vergraben eines Senders” haben werden. Für einen richtigen LVS-Kurs im Gelände bzw. im Schnee möchten wir auf das LVS-Training am Kreuzeck im Januar/Februar 2025 hinweisen. Ziel den Abends sollte jedoch sein\, dass jeder nach dem Chrashkurs zumindest weiss\, wie er sein Gerät im Notfall richtig handhabt bzw. worauf es ankommt.
URL:https://dav-weilheim.de/veranstaltung/theorie-und-praxis-lawinenverschuettetensuche-lvs-crashkurs-praxis-3/
CATEGORIES:Ausbildung,Skitourengruppe
ORGANIZER;CN="Andreas Richter":MAILTO:andreas.richter@dav-weilheim.de
END:VEVENT
BEGIN:VEVENT
DTSTART;TZID=Europe/Berlin:20241128T180000
DTEND;TZID=Europe/Berlin:20241128T220000
DTSTAMP:20260423T142011
CREATED:20240115T195642Z
LAST-MODIFIED:20241105T202054Z
UID:10002870-1732816800-1732831200@dav-weilheim.de
SUMMARY:Weihnachtsfeier / Edelweißfeier 2024
DESCRIPTION:Einladung zur Edelweißfeier Adventfeier \nDonnerstag\, 28. Nov. 2024\n18:00 Uhr\nim Gasthof am Gögerl\, Weilheim \nMit Ehrung langjähriger Mitglieder (ca. 19 Uhr)\nund anschließender musikalischer Gestaltung durch die Loanbiche Musikanten und die Mittenwalder Maultrommler (ca. 19:30 Uhr). \nWerner Kunft liest weihnachtliche Geschichten.
URL:https://dav-weilheim.de/veranstaltung/weihnachtsfeier-edelweissfeier-2024/
LOCATION:Gögerl\, Am Gögerl 1\, Weilheim\, 82362\, Deutschland
CATEGORIES:DAV Intern
END:VEVENT
END:VCALENDAR